BEGIN:VCALENDAR
VERSION:2.0
PRODID:-//Hawkestone Community Hall - ECPv6.15.20//NONSGML v1.0//EN
CALSCALE:GREGORIAN
METHOD:PUBLISH
X-ORIGINAL-URL:http://www.hawkestone.org
X-WR-CALDESC:Events for Hawkestone Community Hall
REFRESH-INTERVAL;VALUE=DURATION:PT1H
X-Robots-Tag:noindex
X-PUBLISHED-TTL:PT1H
BEGIN:VTIMEZONE
TZID:America/Toronto
BEGIN:DAYLIGHT
TZOFFSETFROM:-0500
TZOFFSETTO:-0400
TZNAME:EDT
DTSTART:20250309T070000
END:DAYLIGHT
BEGIN:STANDARD
TZOFFSETFROM:-0400
TZOFFSETTO:-0500
TZNAME:EST
DTSTART:20251102T060000
END:STANDARD
BEGIN:DAYLIGHT
TZOFFSETFROM:-0500
TZOFFSETTO:-0400
TZNAME:EDT
DTSTART:20260308T070000
END:DAYLIGHT
BEGIN:STANDARD
TZOFFSETFROM:-0400
TZOFFSETTO:-0500
TZNAME:EST
DTSTART:20261101T060000
END:STANDARD
BEGIN:DAYLIGHT
TZOFFSETFROM:-0500
TZOFFSETTO:-0400
TZNAME:EDT
DTSTART:20270314T070000
END:DAYLIGHT
BEGIN:STANDARD
TZOFFSETFROM:-0400
TZOFFSETTO:-0500
TZNAME:EST
DTSTART:20271107T060000
END:STANDARD
END:VTIMEZONE
BEGIN:VEVENT
DTSTART;TZID=America/Toronto:20260423T140000
DTEND;TZID=America/Toronto:20260423T160000
DTSTAMP:20260421T075038
CREATED:20250208T195759Z
LAST-MODIFIED:20250903T235203Z
UID:10005870-1776952800-1776960000@www.hawkestone.org
SUMMARY:Thursday Social Drop-In
DESCRIPTION:The Thursday Social Gathering has started up again. All are welcome. There is no cost although donations for the hall are gratefully accepted.
URL:http://www.hawkestone.org/event/thursday-social-drop-in/2026-04-23/
LOCATION:Hawkestone Community Hall\, 3 Allen St\, Hawkestone\, L0L 1T0
CATEGORIES:Adult event,Family Event,Recreation,Social event
ATTACH;FMTTYPE=image/jpeg:http://www.hawkestone.org/wp-content/uploads/2025/02/Thursday-Social.jpg
ORGANIZER;CN="Becca Rodgers":MAILTO:beccarodgers8@gmail.com
END:VEVENT
BEGIN:VEVENT
DTSTART;TZID=America/Toronto:20260423T173000
DTEND;TZID=America/Toronto:20260423T210000
DTSTAMP:20260421T075038
CREATED:20250830T160019Z
LAST-MODIFIED:20250910T130511Z
UID:10007338-1776965400-1776978000@www.hawkestone.org
SUMMARY:Yoga with Misha
DESCRIPTION:Yoga with Misha is a welcoming\, community-oriented Hatha yoga class designed to support both beginners and experienced yogis. Each session includes breathwork\, options to advance or modify poses\, and a light-hearted\, inclusive environment. The class is intended to be of service to the Hawkestone community\, creating space for connection\, movement\, and presence. \nFor more information or to pre-register contact Misha Gilbert at misha.gilbert@gmail.com \nThe cost is $120 for an 8 week block (works out to $15/class)\nDrop-in are welcome at $20/class.\nFor families registering together for the full 8-week block\, enjoy a special rate — buy one\, get the second at half price.
URL:http://www.hawkestone.org/event/yoga-with-misha/2026-04-23/
LOCATION:Hawkestone Community Hall\, 3 Allen St\, Hawkestone\, L0L 1T0
CATEGORIES:Adult event,Exercise,Fitness,Recreation,wildlife
ATTACH;FMTTYPE=image/png:http://www.hawkestone.org/wp-content/uploads/2025/08/Yoga-with-Misha-poster-2025-09.png
ORGANIZER;CN="Misha Gilbert":MAILTO:misha.gilbert@gmail.com
END:VEVENT
BEGIN:VEVENT
DTSTART;TZID=America/Toronto:20260423T193000
DTEND;TZID=America/Toronto:20260423T213000
DTSTAMP:20260421T075038
CREATED:20250512T120948Z
LAST-MODIFIED:20250830T153445Z
UID:10006997-1776972600-1776979800@www.hawkestone.org
SUMMARY:Hawkestone Singers Rehearsals - Come join us!
DESCRIPTION:The Hawkestone Singers\, an adult\, SATB choir\, rehearse at the Hall every Thursday evening from 7:30 to 9:30pm under the direction of the very talented\, Teri Therrien. They perform a wide variety of contemporary music including classic rock\, pop movie themes\, arrangements of old standards\, jazz\, traditional folk songs\, etc. They produce 2 concerts per year in addition to performing at a number of venues in the area. \nThe cost is $125 for each of two seasons (September-December; January-May). This is a non-audition choir for singers over 16. \nFor anyone looking to enjoy the musical communion of fun-loving people\, contact Irina at hawkestonesingers@gmail.com for more information. \n 
URL:http://www.hawkestone.org/event/hawkestone-singers-rehearsals-come-join-us-2/2026-04-23/
LOCATION:Hawkestone Community Hall\, 3 Allen St\, Hawkestone\, L0L 1T0
CATEGORIES:Adult event,Choir,Concert,Music
ATTACH;FMTTYPE=image/jpeg:http://www.hawkestone.org/wp-content/uploads/2025/02/Hawkestone-Singers.jpg
ORGANIZER;CN="Irina Todd":MAILTO:irina_todd@rogers.com
END:VEVENT
END:VCALENDAR