BEGIN:VCALENDAR
VERSION:2.0
PRODID:-//Hawkestone Community Hall - ECPv6.15.20//NONSGML v1.0//EN
CALSCALE:GREGORIAN
METHOD:PUBLISH
X-ORIGINAL-URL:http://www.hawkestone.org
X-WR-CALDESC:Events for Hawkestone Community Hall
REFRESH-INTERVAL;VALUE=DURATION:PT1H
X-Robots-Tag:noindex
X-PUBLISHED-TTL:PT1H
BEGIN:VTIMEZONE
TZID:America/Toronto
BEGIN:DAYLIGHT
TZOFFSETFROM:-0500
TZOFFSETTO:-0400
TZNAME:EDT
DTSTART:20300310T070000
END:DAYLIGHT
BEGIN:STANDARD
TZOFFSETFROM:-0400
TZOFFSETTO:-0500
TZNAME:EST
DTSTART:20301103T060000
END:STANDARD
BEGIN:DAYLIGHT
TZOFFSETFROM:-0500
TZOFFSETTO:-0400
TZNAME:EDT
DTSTART:20310309T070000
END:DAYLIGHT
BEGIN:STANDARD
TZOFFSETFROM:-0400
TZOFFSETTO:-0500
TZNAME:EST
DTSTART:20311102T060000
END:STANDARD
BEGIN:DAYLIGHT
TZOFFSETFROM:-0500
TZOFFSETTO:-0400
TZNAME:EDT
DTSTART:20320314T070000
END:DAYLIGHT
BEGIN:STANDARD
TZOFFSETFROM:-0400
TZOFFSETTO:-0500
TZNAME:EST
DTSTART:20321107T060000
END:STANDARD
END:VTIMEZONE
BEGIN:VEVENT
DTSTART;TZID=America/Toronto:20310102T173000
DTEND;TZID=America/Toronto:20310102T210000
DTSTAMP:20260420T015013
CREATED:20250830T160019Z
LAST-MODIFIED:20250910T130511Z
UID:10008131-1925141400-1925154000@www.hawkestone.org
SUMMARY:Yoga with Misha
DESCRIPTION:Yoga with Misha is a welcoming\, community-oriented Hatha yoga class designed to support both beginners and experienced yogis. Each session includes breathwork\, options to advance or modify poses\, and a light-hearted\, inclusive environment. The class is intended to be of service to the Hawkestone community\, creating space for connection\, movement\, and presence. \nFor more information or to pre-register contact Misha Gilbert at misha.gilbert@gmail.com \nThe cost is $120 for an 8 week block (works out to $15/class)\nDrop-in are welcome at $20/class.\nFor families registering together for the full 8-week block\, enjoy a special rate — buy one\, get the second at half price.
URL:http://www.hawkestone.org/event/yoga-with-misha/2031-01-02/
LOCATION:Hawkestone Community Hall\, 3 Allen St\, Hawkestone\, L0L 1T0
CATEGORIES:Adult event,Exercise,Fitness,Recreation,wildlife
ATTACH;FMTTYPE=image/png:http://www.hawkestone.org/wp-content/uploads/2025/08/Yoga-with-Misha-poster-2025-09.png
ORGANIZER;CN="Misha Gilbert":MAILTO:misha.gilbert@gmail.com
END:VEVENT
BEGIN:VEVENT
DTSTART;TZID=America/Toronto:20310109T173000
DTEND;TZID=America/Toronto:20310109T210000
DTSTAMP:20260420T015013
CREATED:20250830T160019Z
LAST-MODIFIED:20250910T130511Z
UID:10008139-1925746200-1925758800@www.hawkestone.org
SUMMARY:Yoga with Misha
DESCRIPTION:Yoga with Misha is a welcoming\, community-oriented Hatha yoga class designed to support both beginners and experienced yogis. Each session includes breathwork\, options to advance or modify poses\, and a light-hearted\, inclusive environment. The class is intended to be of service to the Hawkestone community\, creating space for connection\, movement\, and presence. \nFor more information or to pre-register contact Misha Gilbert at misha.gilbert@gmail.com \nThe cost is $120 for an 8 week block (works out to $15/class)\nDrop-in are welcome at $20/class.\nFor families registering together for the full 8-week block\, enjoy a special rate — buy one\, get the second at half price.
URL:http://www.hawkestone.org/event/yoga-with-misha/2031-01-09/
LOCATION:Hawkestone Community Hall\, 3 Allen St\, Hawkestone\, L0L 1T0
CATEGORIES:Adult event,Exercise,Fitness,Recreation,wildlife
ATTACH;FMTTYPE=image/png:http://www.hawkestone.org/wp-content/uploads/2025/08/Yoga-with-Misha-poster-2025-09.png
ORGANIZER;CN="Misha Gilbert":MAILTO:misha.gilbert@gmail.com
END:VEVENT
BEGIN:VEVENT
DTSTART;TZID=America/Toronto:20310116T173000
DTEND;TZID=America/Toronto:20310116T210000
DTSTAMP:20260420T015013
CREATED:20250830T160019Z
LAST-MODIFIED:20250910T130511Z
UID:10008144-1926351000-1926363600@www.hawkestone.org
SUMMARY:Yoga with Misha
DESCRIPTION:Yoga with Misha is a welcoming\, community-oriented Hatha yoga class designed to support both beginners and experienced yogis. Each session includes breathwork\, options to advance or modify poses\, and a light-hearted\, inclusive environment. The class is intended to be of service to the Hawkestone community\, creating space for connection\, movement\, and presence. \nFor more information or to pre-register contact Misha Gilbert at misha.gilbert@gmail.com \nThe cost is $120 for an 8 week block (works out to $15/class)\nDrop-in are welcome at $20/class.\nFor families registering together for the full 8-week block\, enjoy a special rate — buy one\, get the second at half price.
URL:http://www.hawkestone.org/event/yoga-with-misha/2031-01-16/
LOCATION:Hawkestone Community Hall\, 3 Allen St\, Hawkestone\, L0L 1T0
CATEGORIES:Adult event,Exercise,Fitness,Recreation,wildlife
ATTACH;FMTTYPE=image/png:http://www.hawkestone.org/wp-content/uploads/2025/08/Yoga-with-Misha-poster-2025-09.png
ORGANIZER;CN="Misha Gilbert":MAILTO:misha.gilbert@gmail.com
END:VEVENT
BEGIN:VEVENT
DTSTART;TZID=America/Toronto:20310123T173000
DTEND;TZID=America/Toronto:20310123T210000
DTSTAMP:20260420T015013
CREATED:20250830T160019Z
LAST-MODIFIED:20250910T130511Z
UID:10008149-1926955800-1926968400@www.hawkestone.org
SUMMARY:Yoga with Misha
DESCRIPTION:Yoga with Misha is a welcoming\, community-oriented Hatha yoga class designed to support both beginners and experienced yogis. Each session includes breathwork\, options to advance or modify poses\, and a light-hearted\, inclusive environment. The class is intended to be of service to the Hawkestone community\, creating space for connection\, movement\, and presence. \nFor more information or to pre-register contact Misha Gilbert at misha.gilbert@gmail.com \nThe cost is $120 for an 8 week block (works out to $15/class)\nDrop-in are welcome at $20/class.\nFor families registering together for the full 8-week block\, enjoy a special rate — buy one\, get the second at half price.
URL:http://www.hawkestone.org/event/yoga-with-misha/2031-01-23/
LOCATION:Hawkestone Community Hall\, 3 Allen St\, Hawkestone\, L0L 1T0
CATEGORIES:Adult event,Exercise,Fitness,Recreation,wildlife
ATTACH;FMTTYPE=image/png:http://www.hawkestone.org/wp-content/uploads/2025/08/Yoga-with-Misha-poster-2025-09.png
ORGANIZER;CN="Misha Gilbert":MAILTO:misha.gilbert@gmail.com
END:VEVENT
BEGIN:VEVENT
DTSTART;TZID=America/Toronto:20310130T173000
DTEND;TZID=America/Toronto:20310130T210000
DTSTAMP:20260420T015013
CREATED:20250830T160019Z
LAST-MODIFIED:20250910T130511Z
UID:10008155-1927560600-1927573200@www.hawkestone.org
SUMMARY:Yoga with Misha
DESCRIPTION:Yoga with Misha is a welcoming\, community-oriented Hatha yoga class designed to support both beginners and experienced yogis. Each session includes breathwork\, options to advance or modify poses\, and a light-hearted\, inclusive environment. The class is intended to be of service to the Hawkestone community\, creating space for connection\, movement\, and presence. \nFor more information or to pre-register contact Misha Gilbert at misha.gilbert@gmail.com \nThe cost is $120 for an 8 week block (works out to $15/class)\nDrop-in are welcome at $20/class.\nFor families registering together for the full 8-week block\, enjoy a special rate — buy one\, get the second at half price.
URL:http://www.hawkestone.org/event/yoga-with-misha/2031-01-30/
LOCATION:Hawkestone Community Hall\, 3 Allen St\, Hawkestone\, L0L 1T0
CATEGORIES:Adult event,Exercise,Fitness,Recreation,wildlife
ATTACH;FMTTYPE=image/png:http://www.hawkestone.org/wp-content/uploads/2025/08/Yoga-with-Misha-poster-2025-09.png
ORGANIZER;CN="Misha Gilbert":MAILTO:misha.gilbert@gmail.com
END:VEVENT
BEGIN:VEVENT
DTSTART;TZID=America/Toronto:20310206T173000
DTEND;TZID=America/Toronto:20310206T210000
DTSTAMP:20260420T015013
CREATED:20250830T160019Z
LAST-MODIFIED:20250910T130511Z
UID:10008161-1928165400-1928178000@www.hawkestone.org
SUMMARY:Yoga with Misha
DESCRIPTION:Yoga with Misha is a welcoming\, community-oriented Hatha yoga class designed to support both beginners and experienced yogis. Each session includes breathwork\, options to advance or modify poses\, and a light-hearted\, inclusive environment. The class is intended to be of service to the Hawkestone community\, creating space for connection\, movement\, and presence. \nFor more information or to pre-register contact Misha Gilbert at misha.gilbert@gmail.com \nThe cost is $120 for an 8 week block (works out to $15/class)\nDrop-in are welcome at $20/class.\nFor families registering together for the full 8-week block\, enjoy a special rate — buy one\, get the second at half price.
URL:http://www.hawkestone.org/event/yoga-with-misha/2031-02-06/
LOCATION:Hawkestone Community Hall\, 3 Allen St\, Hawkestone\, L0L 1T0
CATEGORIES:Adult event,Exercise,Fitness,Recreation,wildlife
ATTACH;FMTTYPE=image/png:http://www.hawkestone.org/wp-content/uploads/2025/08/Yoga-with-Misha-poster-2025-09.png
ORGANIZER;CN="Misha Gilbert":MAILTO:misha.gilbert@gmail.com
END:VEVENT
BEGIN:VEVENT
DTSTART;TZID=America/Toronto:20310213T173000
DTEND;TZID=America/Toronto:20310213T210000
DTSTAMP:20260420T015013
CREATED:20250830T160019Z
LAST-MODIFIED:20250910T130511Z
UID:10008166-1928770200-1928782800@www.hawkestone.org
SUMMARY:Yoga with Misha
DESCRIPTION:Yoga with Misha is a welcoming\, community-oriented Hatha yoga class designed to support both beginners and experienced yogis. Each session includes breathwork\, options to advance or modify poses\, and a light-hearted\, inclusive environment. The class is intended to be of service to the Hawkestone community\, creating space for connection\, movement\, and presence. \nFor more information or to pre-register contact Misha Gilbert at misha.gilbert@gmail.com \nThe cost is $120 for an 8 week block (works out to $15/class)\nDrop-in are welcome at $20/class.\nFor families registering together for the full 8-week block\, enjoy a special rate — buy one\, get the second at half price.
URL:http://www.hawkestone.org/event/yoga-with-misha/2031-02-13/
LOCATION:Hawkestone Community Hall\, 3 Allen St\, Hawkestone\, L0L 1T0
CATEGORIES:Adult event,Exercise,Fitness,Recreation,wildlife
ATTACH;FMTTYPE=image/png:http://www.hawkestone.org/wp-content/uploads/2025/08/Yoga-with-Misha-poster-2025-09.png
ORGANIZER;CN="Misha Gilbert":MAILTO:misha.gilbert@gmail.com
END:VEVENT
BEGIN:VEVENT
DTSTART;TZID=America/Toronto:20310220T173000
DTEND;TZID=America/Toronto:20310220T210000
DTSTAMP:20260420T015013
CREATED:20250830T160019Z
LAST-MODIFIED:20250910T130511Z
UID:10008433-1929375000-1929387600@www.hawkestone.org
SUMMARY:Yoga with Misha
DESCRIPTION:Yoga with Misha is a welcoming\, community-oriented Hatha yoga class designed to support both beginners and experienced yogis. Each session includes breathwork\, options to advance or modify poses\, and a light-hearted\, inclusive environment. The class is intended to be of service to the Hawkestone community\, creating space for connection\, movement\, and presence. \nFor more information or to pre-register contact Misha Gilbert at misha.gilbert@gmail.com \nThe cost is $120 for an 8 week block (works out to $15/class)\nDrop-in are welcome at $20/class.\nFor families registering together for the full 8-week block\, enjoy a special rate — buy one\, get the second at half price.
URL:http://www.hawkestone.org/event/yoga-with-misha/2031-02-20/
LOCATION:Hawkestone Community Hall\, 3 Allen St\, Hawkestone\, L0L 1T0
CATEGORIES:Adult event,Exercise,Fitness,Recreation,wildlife
ATTACH;FMTTYPE=image/png:http://www.hawkestone.org/wp-content/uploads/2025/08/Yoga-with-Misha-poster-2025-09.png
ORGANIZER;CN="Misha Gilbert":MAILTO:misha.gilbert@gmail.com
END:VEVENT
BEGIN:VEVENT
DTSTART;TZID=America/Toronto:20310227T173000
DTEND;TZID=America/Toronto:20310227T210000
DTSTAMP:20260420T015013
CREATED:20250830T160019Z
LAST-MODIFIED:20250910T130511Z
UID:10008494-1929979800-1929992400@www.hawkestone.org
SUMMARY:Yoga with Misha
DESCRIPTION:Yoga with Misha is a welcoming\, community-oriented Hatha yoga class designed to support both beginners and experienced yogis. Each session includes breathwork\, options to advance or modify poses\, and a light-hearted\, inclusive environment. The class is intended to be of service to the Hawkestone community\, creating space for connection\, movement\, and presence. \nFor more information or to pre-register contact Misha Gilbert at misha.gilbert@gmail.com \nThe cost is $120 for an 8 week block (works out to $15/class)\nDrop-in are welcome at $20/class.\nFor families registering together for the full 8-week block\, enjoy a special rate — buy one\, get the second at half price.
URL:http://www.hawkestone.org/event/yoga-with-misha/2031-02-27/
LOCATION:Hawkestone Community Hall\, 3 Allen St\, Hawkestone\, L0L 1T0
CATEGORIES:Adult event,Exercise,Fitness,Recreation,wildlife
ATTACH;FMTTYPE=image/png:http://www.hawkestone.org/wp-content/uploads/2025/08/Yoga-with-Misha-poster-2025-09.png
ORGANIZER;CN="Misha Gilbert":MAILTO:misha.gilbert@gmail.com
END:VEVENT
BEGIN:VEVENT
DTSTART;TZID=America/Toronto:20310306T173000
DTEND;TZID=America/Toronto:20310306T210000
DTSTAMP:20260420T015013
CREATED:20250830T160019Z
LAST-MODIFIED:20250910T130511Z
UID:10008498-1930584600-1930597200@www.hawkestone.org
SUMMARY:Yoga with Misha
DESCRIPTION:Yoga with Misha is a welcoming\, community-oriented Hatha yoga class designed to support both beginners and experienced yogis. Each session includes breathwork\, options to advance or modify poses\, and a light-hearted\, inclusive environment. The class is intended to be of service to the Hawkestone community\, creating space for connection\, movement\, and presence. \nFor more information or to pre-register contact Misha Gilbert at misha.gilbert@gmail.com \nThe cost is $120 for an 8 week block (works out to $15/class)\nDrop-in are welcome at $20/class.\nFor families registering together for the full 8-week block\, enjoy a special rate — buy one\, get the second at half price.
URL:http://www.hawkestone.org/event/yoga-with-misha/2031-03-06/
LOCATION:Hawkestone Community Hall\, 3 Allen St\, Hawkestone\, L0L 1T0
CATEGORIES:Adult event,Exercise,Fitness,Recreation,wildlife
ATTACH;FMTTYPE=image/png:http://www.hawkestone.org/wp-content/uploads/2025/08/Yoga-with-Misha-poster-2025-09.png
ORGANIZER;CN="Misha Gilbert":MAILTO:misha.gilbert@gmail.com
END:VEVENT
BEGIN:VEVENT
DTSTART;TZID=America/Toronto:20310313T173000
DTEND;TZID=America/Toronto:20310313T210000
DTSTAMP:20260420T015013
CREATED:20250830T160019Z
LAST-MODIFIED:20250910T130511Z
UID:10008503-1931189400-1931202000@www.hawkestone.org
SUMMARY:Yoga with Misha
DESCRIPTION:Yoga with Misha is a welcoming\, community-oriented Hatha yoga class designed to support both beginners and experienced yogis. Each session includes breathwork\, options to advance or modify poses\, and a light-hearted\, inclusive environment. The class is intended to be of service to the Hawkestone community\, creating space for connection\, movement\, and presence. \nFor more information or to pre-register contact Misha Gilbert at misha.gilbert@gmail.com \nThe cost is $120 for an 8 week block (works out to $15/class)\nDrop-in are welcome at $20/class.\nFor families registering together for the full 8-week block\, enjoy a special rate — buy one\, get the second at half price.
URL:http://www.hawkestone.org/event/yoga-with-misha/2031-03-13/
LOCATION:Hawkestone Community Hall\, 3 Allen St\, Hawkestone\, L0L 1T0
CATEGORIES:Adult event,Exercise,Fitness,Recreation,wildlife
ATTACH;FMTTYPE=image/png:http://www.hawkestone.org/wp-content/uploads/2025/08/Yoga-with-Misha-poster-2025-09.png
ORGANIZER;CN="Misha Gilbert":MAILTO:misha.gilbert@gmail.com
END:VEVENT
BEGIN:VEVENT
DTSTART;TZID=America/Toronto:20310320T173000
DTEND;TZID=America/Toronto:20310320T210000
DTSTAMP:20260420T015013
CREATED:20250830T160019Z
LAST-MODIFIED:20250910T130511Z
UID:10008510-1931794200-1931806800@www.hawkestone.org
SUMMARY:Yoga with Misha
DESCRIPTION:Yoga with Misha is a welcoming\, community-oriented Hatha yoga class designed to support both beginners and experienced yogis. Each session includes breathwork\, options to advance or modify poses\, and a light-hearted\, inclusive environment. The class is intended to be of service to the Hawkestone community\, creating space for connection\, movement\, and presence. \nFor more information or to pre-register contact Misha Gilbert at misha.gilbert@gmail.com \nThe cost is $120 for an 8 week block (works out to $15/class)\nDrop-in are welcome at $20/class.\nFor families registering together for the full 8-week block\, enjoy a special rate — buy one\, get the second at half price.
URL:http://www.hawkestone.org/event/yoga-with-misha/2031-03-20/
LOCATION:Hawkestone Community Hall\, 3 Allen St\, Hawkestone\, L0L 1T0
CATEGORIES:Adult event,Exercise,Fitness,Recreation,wildlife
ATTACH;FMTTYPE=image/png:http://www.hawkestone.org/wp-content/uploads/2025/08/Yoga-with-Misha-poster-2025-09.png
ORGANIZER;CN="Misha Gilbert":MAILTO:misha.gilbert@gmail.com
END:VEVENT
BEGIN:VEVENT
DTSTART;TZID=America/Toronto:20310327T173000
DTEND;TZID=America/Toronto:20310327T210000
DTSTAMP:20260420T015013
CREATED:20250830T160019Z
LAST-MODIFIED:20250910T130511Z
UID:10008514-1932399000-1932411600@www.hawkestone.org
SUMMARY:Yoga with Misha
DESCRIPTION:Yoga with Misha is a welcoming\, community-oriented Hatha yoga class designed to support both beginners and experienced yogis. Each session includes breathwork\, options to advance or modify poses\, and a light-hearted\, inclusive environment. The class is intended to be of service to the Hawkestone community\, creating space for connection\, movement\, and presence. \nFor more information or to pre-register contact Misha Gilbert at misha.gilbert@gmail.com \nThe cost is $120 for an 8 week block (works out to $15/class)\nDrop-in are welcome at $20/class.\nFor families registering together for the full 8-week block\, enjoy a special rate — buy one\, get the second at half price.
URL:http://www.hawkestone.org/event/yoga-with-misha/2031-03-27/
LOCATION:Hawkestone Community Hall\, 3 Allen St\, Hawkestone\, L0L 1T0
CATEGORIES:Adult event,Exercise,Fitness,Recreation,wildlife
ATTACH;FMTTYPE=image/png:http://www.hawkestone.org/wp-content/uploads/2025/08/Yoga-with-Misha-poster-2025-09.png
ORGANIZER;CN="Misha Gilbert":MAILTO:misha.gilbert@gmail.com
END:VEVENT
BEGIN:VEVENT
DTSTART;TZID=America/Toronto:20310403T173000
DTEND;TZID=America/Toronto:20310403T210000
DTSTAMP:20260420T015013
CREATED:20250830T160019Z
LAST-MODIFIED:20250910T130511Z
UID:10008531-1933003800-1933016400@www.hawkestone.org
SUMMARY:Yoga with Misha
DESCRIPTION:Yoga with Misha is a welcoming\, community-oriented Hatha yoga class designed to support both beginners and experienced yogis. Each session includes breathwork\, options to advance or modify poses\, and a light-hearted\, inclusive environment. The class is intended to be of service to the Hawkestone community\, creating space for connection\, movement\, and presence. \nFor more information or to pre-register contact Misha Gilbert at misha.gilbert@gmail.com \nThe cost is $120 for an 8 week block (works out to $15/class)\nDrop-in are welcome at $20/class.\nFor families registering together for the full 8-week block\, enjoy a special rate — buy one\, get the second at half price.
URL:http://www.hawkestone.org/event/yoga-with-misha/2031-04-03/
LOCATION:Hawkestone Community Hall\, 3 Allen St\, Hawkestone\, L0L 1T0
CATEGORIES:Adult event,Exercise,Fitness,Recreation,wildlife
ATTACH;FMTTYPE=image/png:http://www.hawkestone.org/wp-content/uploads/2025/08/Yoga-with-Misha-poster-2025-09.png
ORGANIZER;CN="Misha Gilbert":MAILTO:misha.gilbert@gmail.com
END:VEVENT
BEGIN:VEVENT
DTSTART;TZID=America/Toronto:20310410T173000
DTEND;TZID=America/Toronto:20310410T210000
DTSTAMP:20260420T015013
CREATED:20250830T160019Z
LAST-MODIFIED:20250910T130511Z
UID:10008539-1933608600-1933621200@www.hawkestone.org
SUMMARY:Yoga with Misha
DESCRIPTION:Yoga with Misha is a welcoming\, community-oriented Hatha yoga class designed to support both beginners and experienced yogis. Each session includes breathwork\, options to advance or modify poses\, and a light-hearted\, inclusive environment. The class is intended to be of service to the Hawkestone community\, creating space for connection\, movement\, and presence. \nFor more information or to pre-register contact Misha Gilbert at misha.gilbert@gmail.com \nThe cost is $120 for an 8 week block (works out to $15/class)\nDrop-in are welcome at $20/class.\nFor families registering together for the full 8-week block\, enjoy a special rate — buy one\, get the second at half price.
URL:http://www.hawkestone.org/event/yoga-with-misha/2031-04-10/
LOCATION:Hawkestone Community Hall\, 3 Allen St\, Hawkestone\, L0L 1T0
CATEGORIES:Adult event,Exercise,Fitness,Recreation,wildlife
ATTACH;FMTTYPE=image/png:http://www.hawkestone.org/wp-content/uploads/2025/08/Yoga-with-Misha-poster-2025-09.png
ORGANIZER;CN="Misha Gilbert":MAILTO:misha.gilbert@gmail.com
END:VEVENT
END:VCALENDAR