BEGIN:VCALENDAR
VERSION:2.0
PRODID:-//Hawkestone Community Hall - ECPv6.15.20//NONSGML v1.0//EN
CALSCALE:GREGORIAN
METHOD:PUBLISH
X-WR-CALNAME:Hawkestone Community Hall
X-ORIGINAL-URL:http://www.hawkestone.org
X-WR-CALDESC:Events for Hawkestone Community Hall
REFRESH-INTERVAL;VALUE=DURATION:PT1H
X-Robots-Tag:noindex
X-PUBLISHED-TTL:PT1H
BEGIN:VTIMEZONE
TZID:America/Toronto
BEGIN:DAYLIGHT
TZOFFSETFROM:-0500
TZOFFSETTO:-0400
TZNAME:EDT
DTSTART:20290311T070000
END:DAYLIGHT
BEGIN:STANDARD
TZOFFSETFROM:-0400
TZOFFSETTO:-0500
TZNAME:EST
DTSTART:20291104T060000
END:STANDARD
BEGIN:DAYLIGHT
TZOFFSETFROM:-0500
TZOFFSETTO:-0400
TZNAME:EDT
DTSTART:20300310T070000
END:DAYLIGHT
BEGIN:STANDARD
TZOFFSETFROM:-0400
TZOFFSETTO:-0500
TZNAME:EST
DTSTART:20301103T060000
END:STANDARD
BEGIN:DAYLIGHT
TZOFFSETFROM:-0500
TZOFFSETTO:-0400
TZNAME:EDT
DTSTART:20310309T070000
END:DAYLIGHT
BEGIN:STANDARD
TZOFFSETFROM:-0400
TZOFFSETTO:-0500
TZNAME:EST
DTSTART:20311102T060000
END:STANDARD
BEGIN:DAYLIGHT
TZOFFSETFROM:-0500
TZOFFSETTO:-0400
TZNAME:EDT
DTSTART:20320314T070000
END:DAYLIGHT
BEGIN:STANDARD
TZOFFSETFROM:-0400
TZOFFSETTO:-0500
TZNAME:EST
DTSTART:20321107T060000
END:STANDARD
END:VTIMEZONE
BEGIN:VEVENT
DTSTART;TZID=America/Toronto:20301107T100000
DTEND;TZID=America/Toronto:20301107T120000
DTSTAMP:20260422T191722
CREATED:20260217T163654Z
LAST-MODIFIED:20260217T164230Z
UID:10008413-1920276000-1920283200@www.hawkestone.org
SUMMARY:Community Play Group
DESCRIPTION:Hello Hawkestone! Thursdays at the Community Hall just got better. As part of our afternoon Social Program we will now be offering a morning Play Group for children and caregivers from 10am-12pm. Donations are appreciated to help this wonderful new program grow. For now bring a toy or two to share and let’s have some fun!
URL:http://www.hawkestone.org/event/community-play-group/2030-11-07/
LOCATION:Hawkestone Community Hall\, 3 Allen St\, Hawkestone\, L0L 1T0
CATEGORIES:Children's event,Family Event,Lifestyles,Recreation,Social event,Well-being
ATTACH;FMTTYPE=image/jpeg:http://www.hawkestone.org/wp-content/uploads/2026/02/family-social.jpg
ORGANIZER;CN="Danielle Talaska":MAILTO:danitalaska@gmail.com
END:VEVENT
BEGIN:VEVENT
DTSTART;TZID=America/Toronto:20301107T140000
DTEND;TZID=America/Toronto:20301107T160000
DTSTAMP:20260422T191722
CREATED:20250208T195759Z
LAST-MODIFIED:20250903T235203Z
UID:10008018-1920290400-1920297600@www.hawkestone.org
SUMMARY:Thursday Social Drop-In
DESCRIPTION:The Thursday Social Gathering has started up again. All are welcome. There is no cost although donations for the hall are gratefully accepted.
URL:http://www.hawkestone.org/event/thursday-social-drop-in/2030-11-07/
LOCATION:Hawkestone Community Hall\, 3 Allen St\, Hawkestone\, L0L 1T0
CATEGORIES:Adult event,Family Event,Recreation,Social event
ATTACH;FMTTYPE=image/jpeg:http://www.hawkestone.org/wp-content/uploads/2025/02/Thursday-Social.jpg
ORGANIZER;CN="Becca Rodgers":MAILTO:beccarodgers8@gmail.com
END:VEVENT
BEGIN:VEVENT
DTSTART;TZID=America/Toronto:20301114T100000
DTEND;TZID=America/Toronto:20301114T120000
DTSTAMP:20260422T191722
CREATED:20260217T163654Z
LAST-MODIFIED:20260217T164230Z
UID:10008414-1920880800-1920888000@www.hawkestone.org
SUMMARY:Community Play Group
DESCRIPTION:Hello Hawkestone! Thursdays at the Community Hall just got better. As part of our afternoon Social Program we will now be offering a morning Play Group for children and caregivers from 10am-12pm. Donations are appreciated to help this wonderful new program grow. For now bring a toy or two to share and let’s have some fun!
URL:http://www.hawkestone.org/event/community-play-group/2030-11-14/
LOCATION:Hawkestone Community Hall\, 3 Allen St\, Hawkestone\, L0L 1T0
CATEGORIES:Children's event,Family Event,Lifestyles,Recreation,Social event,Well-being
ATTACH;FMTTYPE=image/jpeg:http://www.hawkestone.org/wp-content/uploads/2026/02/family-social.jpg
ORGANIZER;CN="Danielle Talaska":MAILTO:danitalaska@gmail.com
END:VEVENT
BEGIN:VEVENT
DTSTART;TZID=America/Toronto:20301114T140000
DTEND;TZID=America/Toronto:20301114T160000
DTSTAMP:20260422T191722
CREATED:20250208T195759Z
LAST-MODIFIED:20250903T235203Z
UID:10008023-1920895200-1920902400@www.hawkestone.org
SUMMARY:Thursday Social Drop-In
DESCRIPTION:The Thursday Social Gathering has started up again. All are welcome. There is no cost although donations for the hall are gratefully accepted.
URL:http://www.hawkestone.org/event/thursday-social-drop-in/2030-11-14/
LOCATION:Hawkestone Community Hall\, 3 Allen St\, Hawkestone\, L0L 1T0
CATEGORIES:Adult event,Family Event,Recreation,Social event
ATTACH;FMTTYPE=image/jpeg:http://www.hawkestone.org/wp-content/uploads/2025/02/Thursday-Social.jpg
ORGANIZER;CN="Becca Rodgers":MAILTO:beccarodgers8@gmail.com
END:VEVENT
BEGIN:VEVENT
DTSTART;TZID=America/Toronto:20301121T100000
DTEND;TZID=America/Toronto:20301121T120000
DTSTAMP:20260422T191722
CREATED:20260217T163654Z
LAST-MODIFIED:20260217T164230Z
UID:10008415-1921485600-1921492800@www.hawkestone.org
SUMMARY:Community Play Group
DESCRIPTION:Hello Hawkestone! Thursdays at the Community Hall just got better. As part of our afternoon Social Program we will now be offering a morning Play Group for children and caregivers from 10am-12pm. Donations are appreciated to help this wonderful new program grow. For now bring a toy or two to share and let’s have some fun!
URL:http://www.hawkestone.org/event/community-play-group/2030-11-21/
LOCATION:Hawkestone Community Hall\, 3 Allen St\, Hawkestone\, L0L 1T0
CATEGORIES:Children's event,Family Event,Lifestyles,Recreation,Social event,Well-being
ATTACH;FMTTYPE=image/jpeg:http://www.hawkestone.org/wp-content/uploads/2026/02/family-social.jpg
ORGANIZER;CN="Danielle Talaska":MAILTO:danitalaska@gmail.com
END:VEVENT
BEGIN:VEVENT
DTSTART;TZID=America/Toronto:20301121T140000
DTEND;TZID=America/Toronto:20301121T160000
DTSTAMP:20260422T191722
CREATED:20250208T195759Z
LAST-MODIFIED:20250903T235203Z
UID:10008051-1921500000-1921507200@www.hawkestone.org
SUMMARY:Thursday Social Drop-In
DESCRIPTION:The Thursday Social Gathering has started up again. All are welcome. There is no cost although donations for the hall are gratefully accepted.
URL:http://www.hawkestone.org/event/thursday-social-drop-in/2030-11-21/
LOCATION:Hawkestone Community Hall\, 3 Allen St\, Hawkestone\, L0L 1T0
CATEGORIES:Adult event,Family Event,Recreation,Social event
ATTACH;FMTTYPE=image/jpeg:http://www.hawkestone.org/wp-content/uploads/2025/02/Thursday-Social.jpg
ORGANIZER;CN="Becca Rodgers":MAILTO:beccarodgers8@gmail.com
END:VEVENT
BEGIN:VEVENT
DTSTART;TZID=America/Toronto:20301128T100000
DTEND;TZID=America/Toronto:20301128T120000
DTSTAMP:20260422T191722
CREATED:20260217T163654Z
LAST-MODIFIED:20260217T164230Z
UID:10008416-1922090400-1922097600@www.hawkestone.org
SUMMARY:Community Play Group
DESCRIPTION:Hello Hawkestone! Thursdays at the Community Hall just got better. As part of our afternoon Social Program we will now be offering a morning Play Group for children and caregivers from 10am-12pm. Donations are appreciated to help this wonderful new program grow. For now bring a toy or two to share and let’s have some fun!
URL:http://www.hawkestone.org/event/community-play-group/2030-11-28/
LOCATION:Hawkestone Community Hall\, 3 Allen St\, Hawkestone\, L0L 1T0
CATEGORIES:Children's event,Family Event,Lifestyles,Recreation,Social event,Well-being
ATTACH;FMTTYPE=image/jpeg:http://www.hawkestone.org/wp-content/uploads/2026/02/family-social.jpg
ORGANIZER;CN="Danielle Talaska":MAILTO:danitalaska@gmail.com
END:VEVENT
BEGIN:VEVENT
DTSTART;TZID=America/Toronto:20301128T140000
DTEND;TZID=America/Toronto:20301128T160000
DTSTAMP:20260422T191722
CREATED:20250208T195759Z
LAST-MODIFIED:20250903T235203Z
UID:10008104-1922104800-1922112000@www.hawkestone.org
SUMMARY:Thursday Social Drop-In
DESCRIPTION:The Thursday Social Gathering has started up again. All are welcome. There is no cost although donations for the hall are gratefully accepted.
URL:http://www.hawkestone.org/event/thursday-social-drop-in/2030-11-28/
LOCATION:Hawkestone Community Hall\, 3 Allen St\, Hawkestone\, L0L 1T0
CATEGORIES:Adult event,Family Event,Recreation,Social event
ATTACH;FMTTYPE=image/jpeg:http://www.hawkestone.org/wp-content/uploads/2025/02/Thursday-Social.jpg
ORGANIZER;CN="Becca Rodgers":MAILTO:beccarodgers8@gmail.com
END:VEVENT
BEGIN:VEVENT
DTSTART;TZID=America/Toronto:20301205T100000
DTEND;TZID=America/Toronto:20301205T120000
DTSTAMP:20260422T191722
CREATED:20260217T163654Z
LAST-MODIFIED:20260217T164230Z
UID:10008417-1922695200-1922702400@www.hawkestone.org
SUMMARY:Community Play Group
DESCRIPTION:Hello Hawkestone! Thursdays at the Community Hall just got better. As part of our afternoon Social Program we will now be offering a morning Play Group for children and caregivers from 10am-12pm. Donations are appreciated to help this wonderful new program grow. For now bring a toy or two to share and let’s have some fun!
URL:http://www.hawkestone.org/event/community-play-group/2030-12-05/
LOCATION:Hawkestone Community Hall\, 3 Allen St\, Hawkestone\, L0L 1T0
CATEGORIES:Children's event,Family Event,Lifestyles,Recreation,Social event,Well-being
ATTACH;FMTTYPE=image/jpeg:http://www.hawkestone.org/wp-content/uploads/2026/02/family-social.jpg
ORGANIZER;CN="Danielle Talaska":MAILTO:danitalaska@gmail.com
END:VEVENT
BEGIN:VEVENT
DTSTART;TZID=America/Toronto:20301205T140000
DTEND;TZID=America/Toronto:20301205T160000
DTSTAMP:20260422T191722
CREATED:20250208T195759Z
LAST-MODIFIED:20250903T235203Z
UID:10008109-1922709600-1922716800@www.hawkestone.org
SUMMARY:Thursday Social Drop-In
DESCRIPTION:The Thursday Social Gathering has started up again. All are welcome. There is no cost although donations for the hall are gratefully accepted.
URL:http://www.hawkestone.org/event/thursday-social-drop-in/2030-12-05/
LOCATION:Hawkestone Community Hall\, 3 Allen St\, Hawkestone\, L0L 1T0
CATEGORIES:Adult event,Family Event,Recreation,Social event
ATTACH;FMTTYPE=image/jpeg:http://www.hawkestone.org/wp-content/uploads/2025/02/Thursday-Social.jpg
ORGANIZER;CN="Becca Rodgers":MAILTO:beccarodgers8@gmail.com
END:VEVENT
BEGIN:VEVENT
DTSTART;TZID=America/Toronto:20301212T100000
DTEND;TZID=America/Toronto:20301212T120000
DTSTAMP:20260422T191722
CREATED:20260217T163654Z
LAST-MODIFIED:20260217T164230Z
UID:10008418-1923300000-1923307200@www.hawkestone.org
SUMMARY:Community Play Group
DESCRIPTION:Hello Hawkestone! Thursdays at the Community Hall just got better. As part of our afternoon Social Program we will now be offering a morning Play Group for children and caregivers from 10am-12pm. Donations are appreciated to help this wonderful new program grow. For now bring a toy or two to share and let’s have some fun!
URL:http://www.hawkestone.org/event/community-play-group/2030-12-12/
LOCATION:Hawkestone Community Hall\, 3 Allen St\, Hawkestone\, L0L 1T0
CATEGORIES:Children's event,Family Event,Lifestyles,Recreation,Social event,Well-being
ATTACH;FMTTYPE=image/jpeg:http://www.hawkestone.org/wp-content/uploads/2026/02/family-social.jpg
ORGANIZER;CN="Danielle Talaska":MAILTO:danitalaska@gmail.com
END:VEVENT
BEGIN:VEVENT
DTSTART;TZID=America/Toronto:20301212T140000
DTEND;TZID=America/Toronto:20301212T160000
DTSTAMP:20260422T191722
CREATED:20250208T195759Z
LAST-MODIFIED:20250903T235203Z
UID:10008114-1923314400-1923321600@www.hawkestone.org
SUMMARY:Thursday Social Drop-In
DESCRIPTION:The Thursday Social Gathering has started up again. All are welcome. There is no cost although donations for the hall are gratefully accepted.
URL:http://www.hawkestone.org/event/thursday-social-drop-in/2030-12-12/
LOCATION:Hawkestone Community Hall\, 3 Allen St\, Hawkestone\, L0L 1T0
CATEGORIES:Adult event,Family Event,Recreation,Social event
ATTACH;FMTTYPE=image/jpeg:http://www.hawkestone.org/wp-content/uploads/2025/02/Thursday-Social.jpg
ORGANIZER;CN="Becca Rodgers":MAILTO:beccarodgers8@gmail.com
END:VEVENT
BEGIN:VEVENT
DTSTART;TZID=America/Toronto:20301219T100000
DTEND;TZID=America/Toronto:20301219T120000
DTSTAMP:20260422T191722
CREATED:20260217T163654Z
LAST-MODIFIED:20260217T164230Z
UID:10008419-1923904800-1923912000@www.hawkestone.org
SUMMARY:Community Play Group
DESCRIPTION:Hello Hawkestone! Thursdays at the Community Hall just got better. As part of our afternoon Social Program we will now be offering a morning Play Group for children and caregivers from 10am-12pm. Donations are appreciated to help this wonderful new program grow. For now bring a toy or two to share and let’s have some fun!
URL:http://www.hawkestone.org/event/community-play-group/2030-12-19/
LOCATION:Hawkestone Community Hall\, 3 Allen St\, Hawkestone\, L0L 1T0
CATEGORIES:Children's event,Family Event,Lifestyles,Recreation,Social event,Well-being
ATTACH;FMTTYPE=image/jpeg:http://www.hawkestone.org/wp-content/uploads/2026/02/family-social.jpg
ORGANIZER;CN="Danielle Talaska":MAILTO:danitalaska@gmail.com
END:VEVENT
BEGIN:VEVENT
DTSTART;TZID=America/Toronto:20301219T140000
DTEND;TZID=America/Toronto:20301219T160000
DTSTAMP:20260422T191722
CREATED:20250208T195759Z
LAST-MODIFIED:20250903T235203Z
UID:10008120-1923919200-1923926400@www.hawkestone.org
SUMMARY:Thursday Social Drop-In
DESCRIPTION:The Thursday Social Gathering has started up again. All are welcome. There is no cost although donations for the hall are gratefully accepted.
URL:http://www.hawkestone.org/event/thursday-social-drop-in/2030-12-19/
LOCATION:Hawkestone Community Hall\, 3 Allen St\, Hawkestone\, L0L 1T0
CATEGORIES:Adult event,Family Event,Recreation,Social event
ATTACH;FMTTYPE=image/jpeg:http://www.hawkestone.org/wp-content/uploads/2025/02/Thursday-Social.jpg
ORGANIZER;CN="Becca Rodgers":MAILTO:beccarodgers8@gmail.com
END:VEVENT
BEGIN:VEVENT
DTSTART;TZID=America/Toronto:20301226T100000
DTEND;TZID=America/Toronto:20301226T120000
DTSTAMP:20260422T191722
CREATED:20260217T163654Z
LAST-MODIFIED:20260217T164230Z
UID:10008420-1924509600-1924516800@www.hawkestone.org
SUMMARY:Community Play Group
DESCRIPTION:Hello Hawkestone! Thursdays at the Community Hall just got better. As part of our afternoon Social Program we will now be offering a morning Play Group for children and caregivers from 10am-12pm. Donations are appreciated to help this wonderful new program grow. For now bring a toy or two to share and let’s have some fun!
URL:http://www.hawkestone.org/event/community-play-group/2030-12-26/
LOCATION:Hawkestone Community Hall\, 3 Allen St\, Hawkestone\, L0L 1T0
CATEGORIES:Children's event,Family Event,Lifestyles,Recreation,Social event,Well-being
ATTACH;FMTTYPE=image/jpeg:http://www.hawkestone.org/wp-content/uploads/2026/02/family-social.jpg
ORGANIZER;CN="Danielle Talaska":MAILTO:danitalaska@gmail.com
END:VEVENT
BEGIN:VEVENT
DTSTART;TZID=America/Toronto:20301226T140000
DTEND;TZID=America/Toronto:20301226T160000
DTSTAMP:20260422T191722
CREATED:20250208T195759Z
LAST-MODIFIED:20250903T235203Z
UID:10008125-1924524000-1924531200@www.hawkestone.org
SUMMARY:Thursday Social Drop-In
DESCRIPTION:The Thursday Social Gathering has started up again. All are welcome. There is no cost although donations for the hall are gratefully accepted.
URL:http://www.hawkestone.org/event/thursday-social-drop-in/2030-12-26/
LOCATION:Hawkestone Community Hall\, 3 Allen St\, Hawkestone\, L0L 1T0
CATEGORIES:Adult event,Family Event,Recreation,Social event
ATTACH;FMTTYPE=image/jpeg:http://www.hawkestone.org/wp-content/uploads/2025/02/Thursday-Social.jpg
ORGANIZER;CN="Becca Rodgers":MAILTO:beccarodgers8@gmail.com
END:VEVENT
BEGIN:VEVENT
DTSTART;TZID=America/Toronto:20310102T100000
DTEND;TZID=America/Toronto:20310102T120000
DTSTAMP:20260422T191722
CREATED:20260217T163654Z
LAST-MODIFIED:20260217T164230Z
UID:10008421-1925114400-1925121600@www.hawkestone.org
SUMMARY:Community Play Group
DESCRIPTION:Hello Hawkestone! Thursdays at the Community Hall just got better. As part of our afternoon Social Program we will now be offering a morning Play Group for children and caregivers from 10am-12pm. Donations are appreciated to help this wonderful new program grow. For now bring a toy or two to share and let’s have some fun!
URL:http://www.hawkestone.org/event/community-play-group/2031-01-02/
LOCATION:Hawkestone Community Hall\, 3 Allen St\, Hawkestone\, L0L 1T0
CATEGORIES:Children's event,Family Event,Lifestyles,Recreation,Social event,Well-being
ATTACH;FMTTYPE=image/jpeg:http://www.hawkestone.org/wp-content/uploads/2026/02/family-social.jpg
ORGANIZER;CN="Danielle Talaska":MAILTO:danitalaska@gmail.com
END:VEVENT
BEGIN:VEVENT
DTSTART;TZID=America/Toronto:20310102T140000
DTEND;TZID=America/Toronto:20310102T160000
DTSTAMP:20260422T191722
CREATED:20250208T195759Z
LAST-MODIFIED:20250903T235203Z
UID:10008130-1925128800-1925136000@www.hawkestone.org
SUMMARY:Thursday Social Drop-In
DESCRIPTION:The Thursday Social Gathering has started up again. All are welcome. There is no cost although donations for the hall are gratefully accepted.
URL:http://www.hawkestone.org/event/thursday-social-drop-in/2031-01-02/
LOCATION:Hawkestone Community Hall\, 3 Allen St\, Hawkestone\, L0L 1T0
CATEGORIES:Adult event,Family Event,Recreation,Social event
ATTACH;FMTTYPE=image/jpeg:http://www.hawkestone.org/wp-content/uploads/2025/02/Thursday-Social.jpg
ORGANIZER;CN="Becca Rodgers":MAILTO:beccarodgers8@gmail.com
END:VEVENT
BEGIN:VEVENT
DTSTART;TZID=America/Toronto:20310109T100000
DTEND;TZID=America/Toronto:20310109T120000
DTSTAMP:20260422T191722
CREATED:20260217T163654Z
LAST-MODIFIED:20260217T164230Z
UID:10008422-1925719200-1925726400@www.hawkestone.org
SUMMARY:Community Play Group
DESCRIPTION:Hello Hawkestone! Thursdays at the Community Hall just got better. As part of our afternoon Social Program we will now be offering a morning Play Group for children and caregivers from 10am-12pm. Donations are appreciated to help this wonderful new program grow. For now bring a toy or two to share and let’s have some fun!
URL:http://www.hawkestone.org/event/community-play-group/2031-01-09/
LOCATION:Hawkestone Community Hall\, 3 Allen St\, Hawkestone\, L0L 1T0
CATEGORIES:Children's event,Family Event,Lifestyles,Recreation,Social event,Well-being
ATTACH;FMTTYPE=image/jpeg:http://www.hawkestone.org/wp-content/uploads/2026/02/family-social.jpg
ORGANIZER;CN="Danielle Talaska":MAILTO:danitalaska@gmail.com
END:VEVENT
BEGIN:VEVENT
DTSTART;TZID=America/Toronto:20310109T140000
DTEND;TZID=America/Toronto:20310109T160000
DTSTAMP:20260422T191722
CREATED:20250208T195759Z
LAST-MODIFIED:20250903T235203Z
UID:10008138-1925733600-1925740800@www.hawkestone.org
SUMMARY:Thursday Social Drop-In
DESCRIPTION:The Thursday Social Gathering has started up again. All are welcome. There is no cost although donations for the hall are gratefully accepted.
URL:http://www.hawkestone.org/event/thursday-social-drop-in/2031-01-09/
LOCATION:Hawkestone Community Hall\, 3 Allen St\, Hawkestone\, L0L 1T0
CATEGORIES:Adult event,Family Event,Recreation,Social event
ATTACH;FMTTYPE=image/jpeg:http://www.hawkestone.org/wp-content/uploads/2025/02/Thursday-Social.jpg
ORGANIZER;CN="Becca Rodgers":MAILTO:beccarodgers8@gmail.com
END:VEVENT
BEGIN:VEVENT
DTSTART;TZID=America/Toronto:20310116T100000
DTEND;TZID=America/Toronto:20310116T120000
DTSTAMP:20260422T191722
CREATED:20260217T163654Z
LAST-MODIFIED:20260217T164230Z
UID:10008423-1926324000-1926331200@www.hawkestone.org
SUMMARY:Community Play Group
DESCRIPTION:Hello Hawkestone! Thursdays at the Community Hall just got better. As part of our afternoon Social Program we will now be offering a morning Play Group for children and caregivers from 10am-12pm. Donations are appreciated to help this wonderful new program grow. For now bring a toy or two to share and let’s have some fun!
URL:http://www.hawkestone.org/event/community-play-group/2031-01-16/
LOCATION:Hawkestone Community Hall\, 3 Allen St\, Hawkestone\, L0L 1T0
CATEGORIES:Children's event,Family Event,Lifestyles,Recreation,Social event,Well-being
ATTACH;FMTTYPE=image/jpeg:http://www.hawkestone.org/wp-content/uploads/2026/02/family-social.jpg
ORGANIZER;CN="Danielle Talaska":MAILTO:danitalaska@gmail.com
END:VEVENT
BEGIN:VEVENT
DTSTART;TZID=America/Toronto:20310116T140000
DTEND;TZID=America/Toronto:20310116T160000
DTSTAMP:20260422T191722
CREATED:20250208T195759Z
LAST-MODIFIED:20250903T235203Z
UID:10008143-1926338400-1926345600@www.hawkestone.org
SUMMARY:Thursday Social Drop-In
DESCRIPTION:The Thursday Social Gathering has started up again. All are welcome. There is no cost although donations for the hall are gratefully accepted.
URL:http://www.hawkestone.org/event/thursday-social-drop-in/2031-01-16/
LOCATION:Hawkestone Community Hall\, 3 Allen St\, Hawkestone\, L0L 1T0
CATEGORIES:Adult event,Family Event,Recreation,Social event
ATTACH;FMTTYPE=image/jpeg:http://www.hawkestone.org/wp-content/uploads/2025/02/Thursday-Social.jpg
ORGANIZER;CN="Becca Rodgers":MAILTO:beccarodgers8@gmail.com
END:VEVENT
BEGIN:VEVENT
DTSTART;TZID=America/Toronto:20310123T100000
DTEND;TZID=America/Toronto:20310123T120000
DTSTAMP:20260422T191722
CREATED:20260217T163654Z
LAST-MODIFIED:20260217T164230Z
UID:10008424-1926928800-1926936000@www.hawkestone.org
SUMMARY:Community Play Group
DESCRIPTION:Hello Hawkestone! Thursdays at the Community Hall just got better. As part of our afternoon Social Program we will now be offering a morning Play Group for children and caregivers from 10am-12pm. Donations are appreciated to help this wonderful new program grow. For now bring a toy or two to share and let’s have some fun!
URL:http://www.hawkestone.org/event/community-play-group/2031-01-23/
LOCATION:Hawkestone Community Hall\, 3 Allen St\, Hawkestone\, L0L 1T0
CATEGORIES:Children's event,Family Event,Lifestyles,Recreation,Social event,Well-being
ATTACH;FMTTYPE=image/jpeg:http://www.hawkestone.org/wp-content/uploads/2026/02/family-social.jpg
ORGANIZER;CN="Danielle Talaska":MAILTO:danitalaska@gmail.com
END:VEVENT
BEGIN:VEVENT
DTSTART;TZID=America/Toronto:20310123T140000
DTEND;TZID=America/Toronto:20310123T160000
DTSTAMP:20260422T191722
CREATED:20250208T195759Z
LAST-MODIFIED:20250903T235203Z
UID:10008148-1926943200-1926950400@www.hawkestone.org
SUMMARY:Thursday Social Drop-In
DESCRIPTION:The Thursday Social Gathering has started up again. All are welcome. There is no cost although donations for the hall are gratefully accepted.
URL:http://www.hawkestone.org/event/thursday-social-drop-in/2031-01-23/
LOCATION:Hawkestone Community Hall\, 3 Allen St\, Hawkestone\, L0L 1T0
CATEGORIES:Adult event,Family Event,Recreation,Social event
ATTACH;FMTTYPE=image/jpeg:http://www.hawkestone.org/wp-content/uploads/2025/02/Thursday-Social.jpg
ORGANIZER;CN="Becca Rodgers":MAILTO:beccarodgers8@gmail.com
END:VEVENT
BEGIN:VEVENT
DTSTART;TZID=America/Toronto:20310130T100000
DTEND;TZID=America/Toronto:20310130T120000
DTSTAMP:20260422T191722
CREATED:20260217T163654Z
LAST-MODIFIED:20260217T164230Z
UID:10008425-1927533600-1927540800@www.hawkestone.org
SUMMARY:Community Play Group
DESCRIPTION:Hello Hawkestone! Thursdays at the Community Hall just got better. As part of our afternoon Social Program we will now be offering a morning Play Group for children and caregivers from 10am-12pm. Donations are appreciated to help this wonderful new program grow. For now bring a toy or two to share and let’s have some fun!
URL:http://www.hawkestone.org/event/community-play-group/2031-01-30/
LOCATION:Hawkestone Community Hall\, 3 Allen St\, Hawkestone\, L0L 1T0
CATEGORIES:Children's event,Family Event,Lifestyles,Recreation,Social event,Well-being
ATTACH;FMTTYPE=image/jpeg:http://www.hawkestone.org/wp-content/uploads/2026/02/family-social.jpg
ORGANIZER;CN="Danielle Talaska":MAILTO:danitalaska@gmail.com
END:VEVENT
BEGIN:VEVENT
DTSTART;TZID=America/Toronto:20310130T140000
DTEND;TZID=America/Toronto:20310130T160000
DTSTAMP:20260422T191722
CREATED:20250208T195759Z
LAST-MODIFIED:20250903T235203Z
UID:10008154-1927548000-1927555200@www.hawkestone.org
SUMMARY:Thursday Social Drop-In
DESCRIPTION:The Thursday Social Gathering has started up again. All are welcome. There is no cost although donations for the hall are gratefully accepted.
URL:http://www.hawkestone.org/event/thursday-social-drop-in/2031-01-30/
LOCATION:Hawkestone Community Hall\, 3 Allen St\, Hawkestone\, L0L 1T0
CATEGORIES:Adult event,Family Event,Recreation,Social event
ATTACH;FMTTYPE=image/jpeg:http://www.hawkestone.org/wp-content/uploads/2025/02/Thursday-Social.jpg
ORGANIZER;CN="Becca Rodgers":MAILTO:beccarodgers8@gmail.com
END:VEVENT
BEGIN:VEVENT
DTSTART;TZID=America/Toronto:20310206T100000
DTEND;TZID=America/Toronto:20310206T120000
DTSTAMP:20260422T191722
CREATED:20260217T163654Z
LAST-MODIFIED:20260217T164230Z
UID:10008426-1928138400-1928145600@www.hawkestone.org
SUMMARY:Community Play Group
DESCRIPTION:Hello Hawkestone! Thursdays at the Community Hall just got better. As part of our afternoon Social Program we will now be offering a morning Play Group for children and caregivers from 10am-12pm. Donations are appreciated to help this wonderful new program grow. For now bring a toy or two to share and let’s have some fun!
URL:http://www.hawkestone.org/event/community-play-group/2031-02-06/
LOCATION:Hawkestone Community Hall\, 3 Allen St\, Hawkestone\, L0L 1T0
CATEGORIES:Children's event,Family Event,Lifestyles,Recreation,Social event,Well-being
ATTACH;FMTTYPE=image/jpeg:http://www.hawkestone.org/wp-content/uploads/2026/02/family-social.jpg
ORGANIZER;CN="Danielle Talaska":MAILTO:danitalaska@gmail.com
END:VEVENT
BEGIN:VEVENT
DTSTART;TZID=America/Toronto:20310206T140000
DTEND;TZID=America/Toronto:20310206T160000
DTSTAMP:20260422T191722
CREATED:20250208T195759Z
LAST-MODIFIED:20250903T235203Z
UID:10008160-1928152800-1928160000@www.hawkestone.org
SUMMARY:Thursday Social Drop-In
DESCRIPTION:The Thursday Social Gathering has started up again. All are welcome. There is no cost although donations for the hall are gratefully accepted.
URL:http://www.hawkestone.org/event/thursday-social-drop-in/2031-02-06/
LOCATION:Hawkestone Community Hall\, 3 Allen St\, Hawkestone\, L0L 1T0
CATEGORIES:Adult event,Family Event,Recreation,Social event
ATTACH;FMTTYPE=image/jpeg:http://www.hawkestone.org/wp-content/uploads/2025/02/Thursday-Social.jpg
ORGANIZER;CN="Becca Rodgers":MAILTO:beccarodgers8@gmail.com
END:VEVENT
BEGIN:VEVENT
DTSTART;TZID=America/Toronto:20310213T100000
DTEND;TZID=America/Toronto:20310213T120000
DTSTAMP:20260422T191722
CREATED:20260217T163654Z
LAST-MODIFIED:20260217T164230Z
UID:10008427-1928743200-1928750400@www.hawkestone.org
SUMMARY:Community Play Group
DESCRIPTION:Hello Hawkestone! Thursdays at the Community Hall just got better. As part of our afternoon Social Program we will now be offering a morning Play Group for children and caregivers from 10am-12pm. Donations are appreciated to help this wonderful new program grow. For now bring a toy or two to share and let’s have some fun!
URL:http://www.hawkestone.org/event/community-play-group/2031-02-13/
LOCATION:Hawkestone Community Hall\, 3 Allen St\, Hawkestone\, L0L 1T0
CATEGORIES:Children's event,Family Event,Lifestyles,Recreation,Social event,Well-being
ATTACH;FMTTYPE=image/jpeg:http://www.hawkestone.org/wp-content/uploads/2026/02/family-social.jpg
ORGANIZER;CN="Danielle Talaska":MAILTO:danitalaska@gmail.com
END:VEVENT
BEGIN:VEVENT
DTSTART;TZID=America/Toronto:20310213T140000
DTEND;TZID=America/Toronto:20310213T160000
DTSTAMP:20260422T191722
CREATED:20250208T195759Z
LAST-MODIFIED:20250903T235203Z
UID:10008165-1928757600-1928764800@www.hawkestone.org
SUMMARY:Thursday Social Drop-In
DESCRIPTION:The Thursday Social Gathering has started up again. All are welcome. There is no cost although donations for the hall are gratefully accepted.
URL:http://www.hawkestone.org/event/thursday-social-drop-in/2031-02-13/
LOCATION:Hawkestone Community Hall\, 3 Allen St\, Hawkestone\, L0L 1T0
CATEGORIES:Adult event,Family Event,Recreation,Social event
ATTACH;FMTTYPE=image/jpeg:http://www.hawkestone.org/wp-content/uploads/2025/02/Thursday-Social.jpg
ORGANIZER;CN="Becca Rodgers":MAILTO:beccarodgers8@gmail.com
END:VEVENT
END:VCALENDAR