BEGIN:VCALENDAR
VERSION:2.0
PRODID:-//Hawkestone Community Hall - ECPv6.15.20//NONSGML v1.0//EN
CALSCALE:GREGORIAN
METHOD:PUBLISH
X-ORIGINAL-URL:http://www.hawkestone.org
X-WR-CALDESC:Events for Hawkestone Community Hall
REFRESH-INTERVAL;VALUE=DURATION:PT1H
X-Robots-Tag:noindex
X-PUBLISHED-TTL:PT1H
BEGIN:VTIMEZONE
TZID:America/Toronto
BEGIN:DAYLIGHT
TZOFFSETFROM:-0500
TZOFFSETTO:-0400
TZNAME:EDT
DTSTART:20290311T070000
END:DAYLIGHT
BEGIN:STANDARD
TZOFFSETFROM:-0400
TZOFFSETTO:-0500
TZNAME:EST
DTSTART:20291104T060000
END:STANDARD
BEGIN:DAYLIGHT
TZOFFSETFROM:-0500
TZOFFSETTO:-0400
TZNAME:EDT
DTSTART:20300310T070000
END:DAYLIGHT
BEGIN:STANDARD
TZOFFSETFROM:-0400
TZOFFSETTO:-0500
TZNAME:EST
DTSTART:20301103T060000
END:STANDARD
BEGIN:DAYLIGHT
TZOFFSETFROM:-0500
TZOFFSETTO:-0400
TZNAME:EDT
DTSTART:20310309T070000
END:DAYLIGHT
BEGIN:STANDARD
TZOFFSETFROM:-0400
TZOFFSETTO:-0500
TZNAME:EST
DTSTART:20311102T060000
END:STANDARD
END:VTIMEZONE
BEGIN:VEVENT
DTSTART;TZID=America/Toronto:20300725T100000
DTEND;TZID=America/Toronto:20300725T120000
DTSTAMP:20260422T182103
CREATED:20260217T163654Z
LAST-MODIFIED:20260217T164230Z
UID:10008398-1911204000-1911211200@www.hawkestone.org
SUMMARY:Community Play Group
DESCRIPTION:Hello Hawkestone! Thursdays at the Community Hall just got better. As part of our afternoon Social Program we will now be offering a morning Play Group for children and caregivers from 10am-12pm. Donations are appreciated to help this wonderful new program grow. For now bring a toy or two to share and let’s have some fun!
URL:http://www.hawkestone.org/event/community-play-group/2030-07-25/
LOCATION:Hawkestone Community Hall\, 3 Allen St\, Hawkestone\, L0L 1T0
CATEGORIES:Children's event,Family Event,Lifestyles,Recreation,Social event,Well-being
ATTACH;FMTTYPE=image/jpeg:http://www.hawkestone.org/wp-content/uploads/2026/02/family-social.jpg
ORGANIZER;CN="Danielle Talaska":MAILTO:danitalaska@gmail.com
END:VEVENT
BEGIN:VEVENT
DTSTART;TZID=America/Toronto:20300725T140000
DTEND;TZID=America/Toronto:20300725T160000
DTSTAMP:20260422T182103
CREATED:20250208T195759Z
LAST-MODIFIED:20250903T235203Z
UID:10007262-1911218400-1911225600@www.hawkestone.org
SUMMARY:Thursday Social Drop-In
DESCRIPTION:The Thursday Social Gathering has started up again. All are welcome. There is no cost although donations for the hall are gratefully accepted.
URL:http://www.hawkestone.org/event/thursday-social-drop-in/2030-07-25/
LOCATION:Hawkestone Community Hall\, 3 Allen St\, Hawkestone\, L0L 1T0
CATEGORIES:Adult event,Family Event,Recreation,Social event
ATTACH;FMTTYPE=image/jpeg:http://www.hawkestone.org/wp-content/uploads/2025/02/Thursday-Social.jpg
ORGANIZER;CN="Becca Rodgers":MAILTO:beccarodgers8@gmail.com
END:VEVENT
BEGIN:VEVENT
DTSTART;TZID=America/Toronto:20300801T100000
DTEND;TZID=America/Toronto:20300801T120000
DTSTAMP:20260422T182103
CREATED:20260217T163654Z
LAST-MODIFIED:20260217T164230Z
UID:10008399-1911808800-1911816000@www.hawkestone.org
SUMMARY:Community Play Group
DESCRIPTION:Hello Hawkestone! Thursdays at the Community Hall just got better. As part of our afternoon Social Program we will now be offering a morning Play Group for children and caregivers from 10am-12pm. Donations are appreciated to help this wonderful new program grow. For now bring a toy or two to share and let’s have some fun!
URL:http://www.hawkestone.org/event/community-play-group/2030-08-01/
LOCATION:Hawkestone Community Hall\, 3 Allen St\, Hawkestone\, L0L 1T0
CATEGORIES:Children's event,Family Event,Lifestyles,Recreation,Social event,Well-being
ATTACH;FMTTYPE=image/jpeg:http://www.hawkestone.org/wp-content/uploads/2026/02/family-social.jpg
ORGANIZER;CN="Danielle Talaska":MAILTO:danitalaska@gmail.com
END:VEVENT
BEGIN:VEVENT
DTSTART;TZID=America/Toronto:20300801T140000
DTEND;TZID=America/Toronto:20300801T160000
DTSTAMP:20260422T182103
CREATED:20250208T195759Z
LAST-MODIFIED:20250903T235203Z
UID:10007268-1911823200-1911830400@www.hawkestone.org
SUMMARY:Thursday Social Drop-In
DESCRIPTION:The Thursday Social Gathering has started up again. All are welcome. There is no cost although donations for the hall are gratefully accepted.
URL:http://www.hawkestone.org/event/thursday-social-drop-in/2030-08-01/
LOCATION:Hawkestone Community Hall\, 3 Allen St\, Hawkestone\, L0L 1T0
CATEGORIES:Adult event,Family Event,Recreation,Social event
ATTACH;FMTTYPE=image/jpeg:http://www.hawkestone.org/wp-content/uploads/2025/02/Thursday-Social.jpg
ORGANIZER;CN="Becca Rodgers":MAILTO:beccarodgers8@gmail.com
END:VEVENT
BEGIN:VEVENT
DTSTART;TZID=America/Toronto:20300808T100000
DTEND;TZID=America/Toronto:20300808T120000
DTSTAMP:20260422T182103
CREATED:20260217T163654Z
LAST-MODIFIED:20260217T164230Z
UID:10008400-1912413600-1912420800@www.hawkestone.org
SUMMARY:Community Play Group
DESCRIPTION:Hello Hawkestone! Thursdays at the Community Hall just got better. As part of our afternoon Social Program we will now be offering a morning Play Group for children and caregivers from 10am-12pm. Donations are appreciated to help this wonderful new program grow. For now bring a toy or two to share and let’s have some fun!
URL:http://www.hawkestone.org/event/community-play-group/2030-08-08/
LOCATION:Hawkestone Community Hall\, 3 Allen St\, Hawkestone\, L0L 1T0
CATEGORIES:Children's event,Family Event,Lifestyles,Recreation,Social event,Well-being
ATTACH;FMTTYPE=image/jpeg:http://www.hawkestone.org/wp-content/uploads/2026/02/family-social.jpg
ORGANIZER;CN="Danielle Talaska":MAILTO:danitalaska@gmail.com
END:VEVENT
BEGIN:VEVENT
DTSTART;TZID=America/Toronto:20300808T140000
DTEND;TZID=America/Toronto:20300808T160000
DTSTAMP:20260422T182103
CREATED:20250208T195759Z
LAST-MODIFIED:20250903T235203Z
UID:10007272-1912428000-1912435200@www.hawkestone.org
SUMMARY:Thursday Social Drop-In
DESCRIPTION:The Thursday Social Gathering has started up again. All are welcome. There is no cost although donations for the hall are gratefully accepted.
URL:http://www.hawkestone.org/event/thursday-social-drop-in/2030-08-08/
LOCATION:Hawkestone Community Hall\, 3 Allen St\, Hawkestone\, L0L 1T0
CATEGORIES:Adult event,Family Event,Recreation,Social event
ATTACH;FMTTYPE=image/jpeg:http://www.hawkestone.org/wp-content/uploads/2025/02/Thursday-Social.jpg
ORGANIZER;CN="Becca Rodgers":MAILTO:beccarodgers8@gmail.com
END:VEVENT
BEGIN:VEVENT
DTSTART;TZID=America/Toronto:20300815T100000
DTEND;TZID=America/Toronto:20300815T120000
DTSTAMP:20260422T182103
CREATED:20260217T163654Z
LAST-MODIFIED:20260217T164230Z
UID:10008401-1913018400-1913025600@www.hawkestone.org
SUMMARY:Community Play Group
DESCRIPTION:Hello Hawkestone! Thursdays at the Community Hall just got better. As part of our afternoon Social Program we will now be offering a morning Play Group for children and caregivers from 10am-12pm. Donations are appreciated to help this wonderful new program grow. For now bring a toy or two to share and let’s have some fun!
URL:http://www.hawkestone.org/event/community-play-group/2030-08-15/
LOCATION:Hawkestone Community Hall\, 3 Allen St\, Hawkestone\, L0L 1T0
CATEGORIES:Children's event,Family Event,Lifestyles,Recreation,Social event,Well-being
ATTACH;FMTTYPE=image/jpeg:http://www.hawkestone.org/wp-content/uploads/2026/02/family-social.jpg
ORGANIZER;CN="Danielle Talaska":MAILTO:danitalaska@gmail.com
END:VEVENT
BEGIN:VEVENT
DTSTART;TZID=America/Toronto:20300815T140000
DTEND;TZID=America/Toronto:20300815T160000
DTSTAMP:20260422T182103
CREATED:20250208T195759Z
LAST-MODIFIED:20250903T235203Z
UID:10007276-1913032800-1913040000@www.hawkestone.org
SUMMARY:Thursday Social Drop-In
DESCRIPTION:The Thursday Social Gathering has started up again. All are welcome. There is no cost although donations for the hall are gratefully accepted.
URL:http://www.hawkestone.org/event/thursday-social-drop-in/2030-08-15/
LOCATION:Hawkestone Community Hall\, 3 Allen St\, Hawkestone\, L0L 1T0
CATEGORIES:Adult event,Family Event,Recreation,Social event
ATTACH;FMTTYPE=image/jpeg:http://www.hawkestone.org/wp-content/uploads/2025/02/Thursday-Social.jpg
ORGANIZER;CN="Becca Rodgers":MAILTO:beccarodgers8@gmail.com
END:VEVENT
BEGIN:VEVENT
DTSTART;TZID=America/Toronto:20300822T100000
DTEND;TZID=America/Toronto:20300822T120000
DTSTAMP:20260422T182103
CREATED:20260217T163654Z
LAST-MODIFIED:20260217T164230Z
UID:10008402-1913623200-1913630400@www.hawkestone.org
SUMMARY:Community Play Group
DESCRIPTION:Hello Hawkestone! Thursdays at the Community Hall just got better. As part of our afternoon Social Program we will now be offering a morning Play Group for children and caregivers from 10am-12pm. Donations are appreciated to help this wonderful new program grow. For now bring a toy or two to share and let’s have some fun!
URL:http://www.hawkestone.org/event/community-play-group/2030-08-22/
LOCATION:Hawkestone Community Hall\, 3 Allen St\, Hawkestone\, L0L 1T0
CATEGORIES:Children's event,Family Event,Lifestyles,Recreation,Social event,Well-being
ATTACH;FMTTYPE=image/jpeg:http://www.hawkestone.org/wp-content/uploads/2026/02/family-social.jpg
ORGANIZER;CN="Danielle Talaska":MAILTO:danitalaska@gmail.com
END:VEVENT
BEGIN:VEVENT
DTSTART;TZID=America/Toronto:20300822T140000
DTEND;TZID=America/Toronto:20300822T160000
DTSTAMP:20260422T182103
CREATED:20250208T195759Z
LAST-MODIFIED:20250903T235203Z
UID:10007281-1913637600-1913644800@www.hawkestone.org
SUMMARY:Thursday Social Drop-In
DESCRIPTION:The Thursday Social Gathering has started up again. All are welcome. There is no cost although donations for the hall are gratefully accepted.
URL:http://www.hawkestone.org/event/thursday-social-drop-in/2030-08-22/
LOCATION:Hawkestone Community Hall\, 3 Allen St\, Hawkestone\, L0L 1T0
CATEGORIES:Adult event,Family Event,Recreation,Social event
ATTACH;FMTTYPE=image/jpeg:http://www.hawkestone.org/wp-content/uploads/2025/02/Thursday-Social.jpg
ORGANIZER;CN="Becca Rodgers":MAILTO:beccarodgers8@gmail.com
END:VEVENT
BEGIN:VEVENT
DTSTART;TZID=America/Toronto:20300829T100000
DTEND;TZID=America/Toronto:20300829T120000
DTSTAMP:20260422T182103
CREATED:20260217T163654Z
LAST-MODIFIED:20260217T164230Z
UID:10008403-1914228000-1914235200@www.hawkestone.org
SUMMARY:Community Play Group
DESCRIPTION:Hello Hawkestone! Thursdays at the Community Hall just got better. As part of our afternoon Social Program we will now be offering a morning Play Group for children and caregivers from 10am-12pm. Donations are appreciated to help this wonderful new program grow. For now bring a toy or two to share and let’s have some fun!
URL:http://www.hawkestone.org/event/community-play-group/2030-08-29/
LOCATION:Hawkestone Community Hall\, 3 Allen St\, Hawkestone\, L0L 1T0
CATEGORIES:Children's event,Family Event,Lifestyles,Recreation,Social event,Well-being
ATTACH;FMTTYPE=image/jpeg:http://www.hawkestone.org/wp-content/uploads/2026/02/family-social.jpg
ORGANIZER;CN="Danielle Talaska":MAILTO:danitalaska@gmail.com
END:VEVENT
BEGIN:VEVENT
DTSTART;TZID=America/Toronto:20300829T140000
DTEND;TZID=America/Toronto:20300829T160000
DTSTAMP:20260422T182103
CREATED:20250208T195759Z
LAST-MODIFIED:20250903T235203Z
UID:10007287-1914242400-1914249600@www.hawkestone.org
SUMMARY:Thursday Social Drop-In
DESCRIPTION:The Thursday Social Gathering has started up again. All are welcome. There is no cost although donations for the hall are gratefully accepted.
URL:http://www.hawkestone.org/event/thursday-social-drop-in/2030-08-29/
LOCATION:Hawkestone Community Hall\, 3 Allen St\, Hawkestone\, L0L 1T0
CATEGORIES:Adult event,Family Event,Recreation,Social event
ATTACH;FMTTYPE=image/jpeg:http://www.hawkestone.org/wp-content/uploads/2025/02/Thursday-Social.jpg
ORGANIZER;CN="Becca Rodgers":MAILTO:beccarodgers8@gmail.com
END:VEVENT
BEGIN:VEVENT
DTSTART;TZID=America/Toronto:20300905T100000
DTEND;TZID=America/Toronto:20300905T120000
DTSTAMP:20260422T182103
CREATED:20260217T163654Z
LAST-MODIFIED:20260217T164230Z
UID:10008404-1914832800-1914840000@www.hawkestone.org
SUMMARY:Community Play Group
DESCRIPTION:Hello Hawkestone! Thursdays at the Community Hall just got better. As part of our afternoon Social Program we will now be offering a morning Play Group for children and caregivers from 10am-12pm. Donations are appreciated to help this wonderful new program grow. For now bring a toy or two to share and let’s have some fun!
URL:http://www.hawkestone.org/event/community-play-group/2030-09-05/
LOCATION:Hawkestone Community Hall\, 3 Allen St\, Hawkestone\, L0L 1T0
CATEGORIES:Children's event,Family Event,Lifestyles,Recreation,Social event,Well-being
ATTACH;FMTTYPE=image/jpeg:http://www.hawkestone.org/wp-content/uploads/2026/02/family-social.jpg
ORGANIZER;CN="Danielle Talaska":MAILTO:danitalaska@gmail.com
END:VEVENT
BEGIN:VEVENT
DTSTART;TZID=America/Toronto:20300905T140000
DTEND;TZID=America/Toronto:20300905T160000
DTSTAMP:20260422T182103
CREATED:20250208T195759Z
LAST-MODIFIED:20250903T235203Z
UID:10007571-1914847200-1914854400@www.hawkestone.org
SUMMARY:Thursday Social Drop-In
DESCRIPTION:The Thursday Social Gathering has started up again. All are welcome. There is no cost although donations for the hall are gratefully accepted.
URL:http://www.hawkestone.org/event/thursday-social-drop-in/2030-09-05/
LOCATION:Hawkestone Community Hall\, 3 Allen St\, Hawkestone\, L0L 1T0
CATEGORIES:Adult event,Family Event,Recreation,Social event
ATTACH;FMTTYPE=image/jpeg:http://www.hawkestone.org/wp-content/uploads/2025/02/Thursday-Social.jpg
ORGANIZER;CN="Becca Rodgers":MAILTO:beccarodgers8@gmail.com
END:VEVENT
BEGIN:VEVENT
DTSTART;TZID=America/Toronto:20300912T100000
DTEND;TZID=America/Toronto:20300912T120000
DTSTAMP:20260422T182103
CREATED:20260217T163654Z
LAST-MODIFIED:20260217T164230Z
UID:10008405-1915437600-1915444800@www.hawkestone.org
SUMMARY:Community Play Group
DESCRIPTION:Hello Hawkestone! Thursdays at the Community Hall just got better. As part of our afternoon Social Program we will now be offering a morning Play Group for children and caregivers from 10am-12pm. Donations are appreciated to help this wonderful new program grow. For now bring a toy or two to share and let’s have some fun!
URL:http://www.hawkestone.org/event/community-play-group/2030-09-12/
LOCATION:Hawkestone Community Hall\, 3 Allen St\, Hawkestone\, L0L 1T0
CATEGORIES:Children's event,Family Event,Lifestyles,Recreation,Social event,Well-being
ATTACH;FMTTYPE=image/jpeg:http://www.hawkestone.org/wp-content/uploads/2026/02/family-social.jpg
ORGANIZER;CN="Danielle Talaska":MAILTO:danitalaska@gmail.com
END:VEVENT
BEGIN:VEVENT
DTSTART;TZID=America/Toronto:20300912T140000
DTEND;TZID=America/Toronto:20300912T160000
DTSTAMP:20260422T182103
CREATED:20250208T195759Z
LAST-MODIFIED:20250903T235203Z
UID:10007644-1915452000-1915459200@www.hawkestone.org
SUMMARY:Thursday Social Drop-In
DESCRIPTION:The Thursday Social Gathering has started up again. All are welcome. There is no cost although donations for the hall are gratefully accepted.
URL:http://www.hawkestone.org/event/thursday-social-drop-in/2030-09-12/
LOCATION:Hawkestone Community Hall\, 3 Allen St\, Hawkestone\, L0L 1T0
CATEGORIES:Adult event,Family Event,Recreation,Social event
ATTACH;FMTTYPE=image/jpeg:http://www.hawkestone.org/wp-content/uploads/2025/02/Thursday-Social.jpg
ORGANIZER;CN="Becca Rodgers":MAILTO:beccarodgers8@gmail.com
END:VEVENT
BEGIN:VEVENT
DTSTART;TZID=America/Toronto:20300919T100000
DTEND;TZID=America/Toronto:20300919T120000
DTSTAMP:20260422T182103
CREATED:20260217T163654Z
LAST-MODIFIED:20260217T164230Z
UID:10008406-1916042400-1916049600@www.hawkestone.org
SUMMARY:Community Play Group
DESCRIPTION:Hello Hawkestone! Thursdays at the Community Hall just got better. As part of our afternoon Social Program we will now be offering a morning Play Group for children and caregivers from 10am-12pm. Donations are appreciated to help this wonderful new program grow. For now bring a toy or two to share and let’s have some fun!
URL:http://www.hawkestone.org/event/community-play-group/2030-09-19/
LOCATION:Hawkestone Community Hall\, 3 Allen St\, Hawkestone\, L0L 1T0
CATEGORIES:Children's event,Family Event,Lifestyles,Recreation,Social event,Well-being
ATTACH;FMTTYPE=image/jpeg:http://www.hawkestone.org/wp-content/uploads/2026/02/family-social.jpg
ORGANIZER;CN="Danielle Talaska":MAILTO:danitalaska@gmail.com
END:VEVENT
BEGIN:VEVENT
DTSTART;TZID=America/Toronto:20300919T140000
DTEND;TZID=America/Toronto:20300919T160000
DTSTAMP:20260422T182103
CREATED:20250208T195759Z
LAST-MODIFIED:20250903T235203Z
UID:10007651-1916056800-1916064000@www.hawkestone.org
SUMMARY:Thursday Social Drop-In
DESCRIPTION:The Thursday Social Gathering has started up again. All are welcome. There is no cost although donations for the hall are gratefully accepted.
URL:http://www.hawkestone.org/event/thursday-social-drop-in/2030-09-19/
LOCATION:Hawkestone Community Hall\, 3 Allen St\, Hawkestone\, L0L 1T0
CATEGORIES:Adult event,Family Event,Recreation,Social event
ATTACH;FMTTYPE=image/jpeg:http://www.hawkestone.org/wp-content/uploads/2025/02/Thursday-Social.jpg
ORGANIZER;CN="Becca Rodgers":MAILTO:beccarodgers8@gmail.com
END:VEVENT
BEGIN:VEVENT
DTSTART;TZID=America/Toronto:20300926T100000
DTEND;TZID=America/Toronto:20300926T120000
DTSTAMP:20260422T182103
CREATED:20260217T163654Z
LAST-MODIFIED:20260217T164230Z
UID:10008407-1916647200-1916654400@www.hawkestone.org
SUMMARY:Community Play Group
DESCRIPTION:Hello Hawkestone! Thursdays at the Community Hall just got better. As part of our afternoon Social Program we will now be offering a morning Play Group for children and caregivers from 10am-12pm. Donations are appreciated to help this wonderful new program grow. For now bring a toy or two to share and let’s have some fun!
URL:http://www.hawkestone.org/event/community-play-group/2030-09-26/
LOCATION:Hawkestone Community Hall\, 3 Allen St\, Hawkestone\, L0L 1T0
CATEGORIES:Children's event,Family Event,Lifestyles,Recreation,Social event,Well-being
ATTACH;FMTTYPE=image/jpeg:http://www.hawkestone.org/wp-content/uploads/2026/02/family-social.jpg
ORGANIZER;CN="Danielle Talaska":MAILTO:danitalaska@gmail.com
END:VEVENT
BEGIN:VEVENT
DTSTART;TZID=America/Toronto:20300926T140000
DTEND;TZID=America/Toronto:20300926T160000
DTSTAMP:20260422T182103
CREATED:20250208T195759Z
LAST-MODIFIED:20250903T235203Z
UID:10007978-1916661600-1916668800@www.hawkestone.org
SUMMARY:Thursday Social Drop-In
DESCRIPTION:The Thursday Social Gathering has started up again. All are welcome. There is no cost although donations for the hall are gratefully accepted.
URL:http://www.hawkestone.org/event/thursday-social-drop-in/2030-09-26/
LOCATION:Hawkestone Community Hall\, 3 Allen St\, Hawkestone\, L0L 1T0
CATEGORIES:Adult event,Family Event,Recreation,Social event
ATTACH;FMTTYPE=image/jpeg:http://www.hawkestone.org/wp-content/uploads/2025/02/Thursday-Social.jpg
ORGANIZER;CN="Becca Rodgers":MAILTO:beccarodgers8@gmail.com
END:VEVENT
BEGIN:VEVENT
DTSTART;TZID=America/Toronto:20301003T100000
DTEND;TZID=America/Toronto:20301003T120000
DTSTAMP:20260422T182103
CREATED:20260217T163654Z
LAST-MODIFIED:20260217T164230Z
UID:10008408-1917252000-1917259200@www.hawkestone.org
SUMMARY:Community Play Group
DESCRIPTION:Hello Hawkestone! Thursdays at the Community Hall just got better. As part of our afternoon Social Program we will now be offering a morning Play Group for children and caregivers from 10am-12pm. Donations are appreciated to help this wonderful new program grow. For now bring a toy or two to share and let’s have some fun!
URL:http://www.hawkestone.org/event/community-play-group/2030-10-03/
LOCATION:Hawkestone Community Hall\, 3 Allen St\, Hawkestone\, L0L 1T0
CATEGORIES:Children's event,Family Event,Lifestyles,Recreation,Social event,Well-being
ATTACH;FMTTYPE=image/jpeg:http://www.hawkestone.org/wp-content/uploads/2026/02/family-social.jpg
ORGANIZER;CN="Danielle Talaska":MAILTO:danitalaska@gmail.com
END:VEVENT
BEGIN:VEVENT
DTSTART;TZID=America/Toronto:20301003T140000
DTEND;TZID=America/Toronto:20301003T160000
DTSTAMP:20260422T182103
CREATED:20250208T195759Z
LAST-MODIFIED:20250903T235203Z
UID:10007999-1917266400-1917273600@www.hawkestone.org
SUMMARY:Thursday Social Drop-In
DESCRIPTION:The Thursday Social Gathering has started up again. All are welcome. There is no cost although donations for the hall are gratefully accepted.
URL:http://www.hawkestone.org/event/thursday-social-drop-in/2030-10-03/
LOCATION:Hawkestone Community Hall\, 3 Allen St\, Hawkestone\, L0L 1T0
CATEGORIES:Adult event,Family Event,Recreation,Social event
ATTACH;FMTTYPE=image/jpeg:http://www.hawkestone.org/wp-content/uploads/2025/02/Thursday-Social.jpg
ORGANIZER;CN="Becca Rodgers":MAILTO:beccarodgers8@gmail.com
END:VEVENT
BEGIN:VEVENT
DTSTART;TZID=America/Toronto:20301010T100000
DTEND;TZID=America/Toronto:20301010T120000
DTSTAMP:20260422T182103
CREATED:20260217T163654Z
LAST-MODIFIED:20260217T164230Z
UID:10008409-1917856800-1917864000@www.hawkestone.org
SUMMARY:Community Play Group
DESCRIPTION:Hello Hawkestone! Thursdays at the Community Hall just got better. As part of our afternoon Social Program we will now be offering a morning Play Group for children and caregivers from 10am-12pm. Donations are appreciated to help this wonderful new program grow. For now bring a toy or two to share and let’s have some fun!
URL:http://www.hawkestone.org/event/community-play-group/2030-10-10/
LOCATION:Hawkestone Community Hall\, 3 Allen St\, Hawkestone\, L0L 1T0
CATEGORIES:Children's event,Family Event,Lifestyles,Recreation,Social event,Well-being
ATTACH;FMTTYPE=image/jpeg:http://www.hawkestone.org/wp-content/uploads/2026/02/family-social.jpg
ORGANIZER;CN="Danielle Talaska":MAILTO:danitalaska@gmail.com
END:VEVENT
BEGIN:VEVENT
DTSTART;TZID=America/Toronto:20301010T140000
DTEND;TZID=America/Toronto:20301010T160000
DTSTAMP:20260422T182103
CREATED:20250208T195759Z
LAST-MODIFIED:20250903T235203Z
UID:10008000-1917871200-1917878400@www.hawkestone.org
SUMMARY:Thursday Social Drop-In
DESCRIPTION:The Thursday Social Gathering has started up again. All are welcome. There is no cost although donations for the hall are gratefully accepted.
URL:http://www.hawkestone.org/event/thursday-social-drop-in/2030-10-10/
LOCATION:Hawkestone Community Hall\, 3 Allen St\, Hawkestone\, L0L 1T0
CATEGORIES:Adult event,Family Event,Recreation,Social event
ATTACH;FMTTYPE=image/jpeg:http://www.hawkestone.org/wp-content/uploads/2025/02/Thursday-Social.jpg
ORGANIZER;CN="Becca Rodgers":MAILTO:beccarodgers8@gmail.com
END:VEVENT
BEGIN:VEVENT
DTSTART;TZID=America/Toronto:20301017T100000
DTEND;TZID=America/Toronto:20301017T120000
DTSTAMP:20260422T182103
CREATED:20260217T163654Z
LAST-MODIFIED:20260217T164230Z
UID:10008410-1918461600-1918468800@www.hawkestone.org
SUMMARY:Community Play Group
DESCRIPTION:Hello Hawkestone! Thursdays at the Community Hall just got better. As part of our afternoon Social Program we will now be offering a morning Play Group for children and caregivers from 10am-12pm. Donations are appreciated to help this wonderful new program grow. For now bring a toy or two to share and let’s have some fun!
URL:http://www.hawkestone.org/event/community-play-group/2030-10-17/
LOCATION:Hawkestone Community Hall\, 3 Allen St\, Hawkestone\, L0L 1T0
CATEGORIES:Children's event,Family Event,Lifestyles,Recreation,Social event,Well-being
ATTACH;FMTTYPE=image/jpeg:http://www.hawkestone.org/wp-content/uploads/2026/02/family-social.jpg
ORGANIZER;CN="Danielle Talaska":MAILTO:danitalaska@gmail.com
END:VEVENT
BEGIN:VEVENT
DTSTART;TZID=America/Toronto:20301017T140000
DTEND;TZID=America/Toronto:20301017T160000
DTSTAMP:20260422T182103
CREATED:20250208T195759Z
LAST-MODIFIED:20250903T235203Z
UID:10008001-1918476000-1918483200@www.hawkestone.org
SUMMARY:Thursday Social Drop-In
DESCRIPTION:The Thursday Social Gathering has started up again. All are welcome. There is no cost although donations for the hall are gratefully accepted.
URL:http://www.hawkestone.org/event/thursday-social-drop-in/2030-10-17/
LOCATION:Hawkestone Community Hall\, 3 Allen St\, Hawkestone\, L0L 1T0
CATEGORIES:Adult event,Family Event,Recreation,Social event
ATTACH;FMTTYPE=image/jpeg:http://www.hawkestone.org/wp-content/uploads/2025/02/Thursday-Social.jpg
ORGANIZER;CN="Becca Rodgers":MAILTO:beccarodgers8@gmail.com
END:VEVENT
BEGIN:VEVENT
DTSTART;TZID=America/Toronto:20301024T100000
DTEND;TZID=America/Toronto:20301024T120000
DTSTAMP:20260422T182103
CREATED:20260217T163654Z
LAST-MODIFIED:20260217T164230Z
UID:10008411-1919066400-1919073600@www.hawkestone.org
SUMMARY:Community Play Group
DESCRIPTION:Hello Hawkestone! Thursdays at the Community Hall just got better. As part of our afternoon Social Program we will now be offering a morning Play Group for children and caregivers from 10am-12pm. Donations are appreciated to help this wonderful new program grow. For now bring a toy or two to share and let’s have some fun!
URL:http://www.hawkestone.org/event/community-play-group/2030-10-24/
LOCATION:Hawkestone Community Hall\, 3 Allen St\, Hawkestone\, L0L 1T0
CATEGORIES:Children's event,Family Event,Lifestyles,Recreation,Social event,Well-being
ATTACH;FMTTYPE=image/jpeg:http://www.hawkestone.org/wp-content/uploads/2026/02/family-social.jpg
ORGANIZER;CN="Danielle Talaska":MAILTO:danitalaska@gmail.com
END:VEVENT
BEGIN:VEVENT
DTSTART;TZID=America/Toronto:20301024T140000
DTEND;TZID=America/Toronto:20301024T160000
DTSTAMP:20260422T182103
CREATED:20250208T195759Z
LAST-MODIFIED:20250903T235203Z
UID:10008007-1919080800-1919088000@www.hawkestone.org
SUMMARY:Thursday Social Drop-In
DESCRIPTION:The Thursday Social Gathering has started up again. All are welcome. There is no cost although donations for the hall are gratefully accepted.
URL:http://www.hawkestone.org/event/thursday-social-drop-in/2030-10-24/
LOCATION:Hawkestone Community Hall\, 3 Allen St\, Hawkestone\, L0L 1T0
CATEGORIES:Adult event,Family Event,Recreation,Social event
ATTACH;FMTTYPE=image/jpeg:http://www.hawkestone.org/wp-content/uploads/2025/02/Thursday-Social.jpg
ORGANIZER;CN="Becca Rodgers":MAILTO:beccarodgers8@gmail.com
END:VEVENT
BEGIN:VEVENT
DTSTART;TZID=America/Toronto:20301031T100000
DTEND;TZID=America/Toronto:20301031T120000
DTSTAMP:20260422T182103
CREATED:20260217T163654Z
LAST-MODIFIED:20260217T164230Z
UID:10008412-1919671200-1919678400@www.hawkestone.org
SUMMARY:Community Play Group
DESCRIPTION:Hello Hawkestone! Thursdays at the Community Hall just got better. As part of our afternoon Social Program we will now be offering a morning Play Group for children and caregivers from 10am-12pm. Donations are appreciated to help this wonderful new program grow. For now bring a toy or two to share and let’s have some fun!
URL:http://www.hawkestone.org/event/community-play-group/2030-10-31/
LOCATION:Hawkestone Community Hall\, 3 Allen St\, Hawkestone\, L0L 1T0
CATEGORIES:Children's event,Family Event,Lifestyles,Recreation,Social event,Well-being
ATTACH;FMTTYPE=image/jpeg:http://www.hawkestone.org/wp-content/uploads/2026/02/family-social.jpg
ORGANIZER;CN="Danielle Talaska":MAILTO:danitalaska@gmail.com
END:VEVENT
BEGIN:VEVENT
DTSTART;TZID=America/Toronto:20301031T140000
DTEND;TZID=America/Toronto:20301031T160000
DTSTAMP:20260422T182103
CREATED:20250208T195759Z
LAST-MODIFIED:20250903T235203Z
UID:10008011-1919685600-1919692800@www.hawkestone.org
SUMMARY:Thursday Social Drop-In
DESCRIPTION:The Thursday Social Gathering has started up again. All are welcome. There is no cost although donations for the hall are gratefully accepted.
URL:http://www.hawkestone.org/event/thursday-social-drop-in/2030-10-31/
LOCATION:Hawkestone Community Hall\, 3 Allen St\, Hawkestone\, L0L 1T0
CATEGORIES:Adult event,Family Event,Recreation,Social event
ATTACH;FMTTYPE=image/jpeg:http://www.hawkestone.org/wp-content/uploads/2025/02/Thursday-Social.jpg
ORGANIZER;CN="Becca Rodgers":MAILTO:beccarodgers8@gmail.com
END:VEVENT
END:VCALENDAR