BEGIN:VCALENDAR
VERSION:2.0
PRODID:-//Hawkestone Community Hall - ECPv6.15.20//NONSGML v1.0//EN
CALSCALE:GREGORIAN
METHOD:PUBLISH
X-ORIGINAL-URL:http://www.hawkestone.org
X-WR-CALDESC:Events for Hawkestone Community Hall
REFRESH-INTERVAL;VALUE=DURATION:PT1H
X-Robots-Tag:noindex
X-PUBLISHED-TTL:PT1H
BEGIN:VTIMEZONE
TZID:America/Toronto
BEGIN:DAYLIGHT
TZOFFSETFROM:-0500
TZOFFSETTO:-0400
TZNAME:EDT
DTSTART:20280312T070000
END:DAYLIGHT
BEGIN:STANDARD
TZOFFSETFROM:-0400
TZOFFSETTO:-0500
TZNAME:EST
DTSTART:20281105T060000
END:STANDARD
BEGIN:DAYLIGHT
TZOFFSETFROM:-0500
TZOFFSETTO:-0400
TZNAME:EDT
DTSTART:20290311T070000
END:DAYLIGHT
BEGIN:STANDARD
TZOFFSETFROM:-0400
TZOFFSETTO:-0500
TZNAME:EST
DTSTART:20291104T060000
END:STANDARD
BEGIN:DAYLIGHT
TZOFFSETFROM:-0500
TZOFFSETTO:-0400
TZNAME:EDT
DTSTART:20300310T070000
END:DAYLIGHT
BEGIN:STANDARD
TZOFFSETFROM:-0400
TZOFFSETTO:-0500
TZNAME:EST
DTSTART:20301103T060000
END:STANDARD
END:VTIMEZONE
BEGIN:VEVENT
DTSTART;TZID=America/Toronto:20290118T100000
DTEND;TZID=America/Toronto:20290118T120000
DTSTAMP:20260421T205745
CREATED:20260217T163654Z
LAST-MODIFIED:20260217T164230Z
UID:10008319-1863424800-1863432000@www.hawkestone.org
SUMMARY:Community Play Group
DESCRIPTION:Hello Hawkestone! Thursdays at the Community Hall just got better. As part of our afternoon Social Program we will now be offering a morning Play Group for children and caregivers from 10am-12pm. Donations are appreciated to help this wonderful new program grow. For now bring a toy or two to share and let’s have some fun!
URL:http://www.hawkestone.org/event/community-play-group/2029-01-18/
LOCATION:Hawkestone Community Hall\, 3 Allen St\, Hawkestone\, L0L 1T0
CATEGORIES:Children's event,Family Event,Lifestyles,Recreation,Social event,Well-being
ATTACH;FMTTYPE=image/jpeg:http://www.hawkestone.org/wp-content/uploads/2026/02/family-social.jpg
ORGANIZER;CN="Danielle Talaska":MAILTO:danitalaska@gmail.com
END:VEVENT
BEGIN:VEVENT
DTSTART;TZID=America/Toronto:20290118T140000
DTEND;TZID=America/Toronto:20290118T160000
DTSTAMP:20260421T205745
CREATED:20250208T195759Z
LAST-MODIFIED:20250903T235203Z
UID:10006013-1863439200-1863446400@www.hawkestone.org
SUMMARY:Thursday Social Drop-In
DESCRIPTION:The Thursday Social Gathering has started up again. All are welcome. There is no cost although donations for the hall are gratefully accepted.
URL:http://www.hawkestone.org/event/thursday-social-drop-in/2029-01-18/
LOCATION:Hawkestone Community Hall\, 3 Allen St\, Hawkestone\, L0L 1T0
CATEGORIES:Adult event,Family Event,Recreation,Social event
ATTACH;FMTTYPE=image/jpeg:http://www.hawkestone.org/wp-content/uploads/2025/02/Thursday-Social.jpg
ORGANIZER;CN="Becca Rodgers":MAILTO:beccarodgers8@gmail.com
END:VEVENT
BEGIN:VEVENT
DTSTART;TZID=America/Toronto:20290125T100000
DTEND;TZID=America/Toronto:20290125T120000
DTSTAMP:20260421T205745
CREATED:20260217T163654Z
LAST-MODIFIED:20260217T164230Z
UID:10008320-1864029600-1864036800@www.hawkestone.org
SUMMARY:Community Play Group
DESCRIPTION:Hello Hawkestone! Thursdays at the Community Hall just got better. As part of our afternoon Social Program we will now be offering a morning Play Group for children and caregivers from 10am-12pm. Donations are appreciated to help this wonderful new program grow. For now bring a toy or two to share and let’s have some fun!
URL:http://www.hawkestone.org/event/community-play-group/2029-01-25/
LOCATION:Hawkestone Community Hall\, 3 Allen St\, Hawkestone\, L0L 1T0
CATEGORIES:Children's event,Family Event,Lifestyles,Recreation,Social event,Well-being
ATTACH;FMTTYPE=image/jpeg:http://www.hawkestone.org/wp-content/uploads/2026/02/family-social.jpg
ORGANIZER;CN="Danielle Talaska":MAILTO:danitalaska@gmail.com
END:VEVENT
BEGIN:VEVENT
DTSTART;TZID=America/Toronto:20290125T140000
DTEND;TZID=America/Toronto:20290125T160000
DTSTAMP:20260421T205745
CREATED:20250208T195759Z
LAST-MODIFIED:20250903T235203Z
UID:10006014-1864044000-1864051200@www.hawkestone.org
SUMMARY:Thursday Social Drop-In
DESCRIPTION:The Thursday Social Gathering has started up again. All are welcome. There is no cost although donations for the hall are gratefully accepted.
URL:http://www.hawkestone.org/event/thursday-social-drop-in/2029-01-25/
LOCATION:Hawkestone Community Hall\, 3 Allen St\, Hawkestone\, L0L 1T0
CATEGORIES:Adult event,Family Event,Recreation,Social event
ATTACH;FMTTYPE=image/jpeg:http://www.hawkestone.org/wp-content/uploads/2025/02/Thursday-Social.jpg
ORGANIZER;CN="Becca Rodgers":MAILTO:beccarodgers8@gmail.com
END:VEVENT
BEGIN:VEVENT
DTSTART;TZID=America/Toronto:20290201T100000
DTEND;TZID=America/Toronto:20290201T120000
DTSTAMP:20260421T205745
CREATED:20260217T163654Z
LAST-MODIFIED:20260217T164230Z
UID:10008321-1864634400-1864641600@www.hawkestone.org
SUMMARY:Community Play Group
DESCRIPTION:Hello Hawkestone! Thursdays at the Community Hall just got better. As part of our afternoon Social Program we will now be offering a morning Play Group for children and caregivers from 10am-12pm. Donations are appreciated to help this wonderful new program grow. For now bring a toy or two to share and let’s have some fun!
URL:http://www.hawkestone.org/event/community-play-group/2029-02-01/
LOCATION:Hawkestone Community Hall\, 3 Allen St\, Hawkestone\, L0L 1T0
CATEGORIES:Children's event,Family Event,Lifestyles,Recreation,Social event,Well-being
ATTACH;FMTTYPE=image/jpeg:http://www.hawkestone.org/wp-content/uploads/2026/02/family-social.jpg
ORGANIZER;CN="Danielle Talaska":MAILTO:danitalaska@gmail.com
END:VEVENT
BEGIN:VEVENT
DTSTART;TZID=America/Toronto:20290201T140000
DTEND;TZID=America/Toronto:20290201T160000
DTSTAMP:20260421T205745
CREATED:20250208T195759Z
LAST-MODIFIED:20250903T235203Z
UID:10006015-1864648800-1864656000@www.hawkestone.org
SUMMARY:Thursday Social Drop-In
DESCRIPTION:The Thursday Social Gathering has started up again. All are welcome. There is no cost although donations for the hall are gratefully accepted.
URL:http://www.hawkestone.org/event/thursday-social-drop-in/2029-02-01/
LOCATION:Hawkestone Community Hall\, 3 Allen St\, Hawkestone\, L0L 1T0
CATEGORIES:Adult event,Family Event,Recreation,Social event
ATTACH;FMTTYPE=image/jpeg:http://www.hawkestone.org/wp-content/uploads/2025/02/Thursday-Social.jpg
ORGANIZER;CN="Becca Rodgers":MAILTO:beccarodgers8@gmail.com
END:VEVENT
BEGIN:VEVENT
DTSTART;TZID=America/Toronto:20290208T100000
DTEND;TZID=America/Toronto:20290208T120000
DTSTAMP:20260421T205745
CREATED:20260217T163654Z
LAST-MODIFIED:20260217T164230Z
UID:10008322-1865239200-1865246400@www.hawkestone.org
SUMMARY:Community Play Group
DESCRIPTION:Hello Hawkestone! Thursdays at the Community Hall just got better. As part of our afternoon Social Program we will now be offering a morning Play Group for children and caregivers from 10am-12pm. Donations are appreciated to help this wonderful new program grow. For now bring a toy or two to share and let’s have some fun!
URL:http://www.hawkestone.org/event/community-play-group/2029-02-08/
LOCATION:Hawkestone Community Hall\, 3 Allen St\, Hawkestone\, L0L 1T0
CATEGORIES:Children's event,Family Event,Lifestyles,Recreation,Social event,Well-being
ATTACH;FMTTYPE=image/jpeg:http://www.hawkestone.org/wp-content/uploads/2026/02/family-social.jpg
ORGANIZER;CN="Danielle Talaska":MAILTO:danitalaska@gmail.com
END:VEVENT
BEGIN:VEVENT
DTSTART;TZID=America/Toronto:20290208T140000
DTEND;TZID=America/Toronto:20290208T160000
DTSTAMP:20260421T205745
CREATED:20250208T195759Z
LAST-MODIFIED:20250903T235203Z
UID:10006016-1865253600-1865260800@www.hawkestone.org
SUMMARY:Thursday Social Drop-In
DESCRIPTION:The Thursday Social Gathering has started up again. All are welcome. There is no cost although donations for the hall are gratefully accepted.
URL:http://www.hawkestone.org/event/thursday-social-drop-in/2029-02-08/
LOCATION:Hawkestone Community Hall\, 3 Allen St\, Hawkestone\, L0L 1T0
CATEGORIES:Adult event,Family Event,Recreation,Social event
ATTACH;FMTTYPE=image/jpeg:http://www.hawkestone.org/wp-content/uploads/2025/02/Thursday-Social.jpg
ORGANIZER;CN="Becca Rodgers":MAILTO:beccarodgers8@gmail.com
END:VEVENT
BEGIN:VEVENT
DTSTART;TZID=America/Toronto:20290215T100000
DTEND;TZID=America/Toronto:20290215T120000
DTSTAMP:20260421T205745
CREATED:20260217T163654Z
LAST-MODIFIED:20260217T164230Z
UID:10008323-1865844000-1865851200@www.hawkestone.org
SUMMARY:Community Play Group
DESCRIPTION:Hello Hawkestone! Thursdays at the Community Hall just got better. As part of our afternoon Social Program we will now be offering a morning Play Group for children and caregivers from 10am-12pm. Donations are appreciated to help this wonderful new program grow. For now bring a toy or two to share and let’s have some fun!
URL:http://www.hawkestone.org/event/community-play-group/2029-02-15/
LOCATION:Hawkestone Community Hall\, 3 Allen St\, Hawkestone\, L0L 1T0
CATEGORIES:Children's event,Family Event,Lifestyles,Recreation,Social event,Well-being
ATTACH;FMTTYPE=image/jpeg:http://www.hawkestone.org/wp-content/uploads/2026/02/family-social.jpg
ORGANIZER;CN="Danielle Talaska":MAILTO:danitalaska@gmail.com
END:VEVENT
BEGIN:VEVENT
DTSTART;TZID=America/Toronto:20290215T140000
DTEND;TZID=America/Toronto:20290215T160000
DTSTAMP:20260421T205745
CREATED:20250208T195759Z
LAST-MODIFIED:20250903T235203Z
UID:10006017-1865858400-1865865600@www.hawkestone.org
SUMMARY:Thursday Social Drop-In
DESCRIPTION:The Thursday Social Gathering has started up again. All are welcome. There is no cost although donations for the hall are gratefully accepted.
URL:http://www.hawkestone.org/event/thursday-social-drop-in/2029-02-15/
LOCATION:Hawkestone Community Hall\, 3 Allen St\, Hawkestone\, L0L 1T0
CATEGORIES:Adult event,Family Event,Recreation,Social event
ATTACH;FMTTYPE=image/jpeg:http://www.hawkestone.org/wp-content/uploads/2025/02/Thursday-Social.jpg
ORGANIZER;CN="Becca Rodgers":MAILTO:beccarodgers8@gmail.com
END:VEVENT
BEGIN:VEVENT
DTSTART;TZID=America/Toronto:20290222T100000
DTEND;TZID=America/Toronto:20290222T120000
DTSTAMP:20260421T205745
CREATED:20260217T163654Z
LAST-MODIFIED:20260217T164230Z
UID:10008324-1866448800-1866456000@www.hawkestone.org
SUMMARY:Community Play Group
DESCRIPTION:Hello Hawkestone! Thursdays at the Community Hall just got better. As part of our afternoon Social Program we will now be offering a morning Play Group for children and caregivers from 10am-12pm. Donations are appreciated to help this wonderful new program grow. For now bring a toy or two to share and let’s have some fun!
URL:http://www.hawkestone.org/event/community-play-group/2029-02-22/
LOCATION:Hawkestone Community Hall\, 3 Allen St\, Hawkestone\, L0L 1T0
CATEGORIES:Children's event,Family Event,Lifestyles,Recreation,Social event,Well-being
ATTACH;FMTTYPE=image/jpeg:http://www.hawkestone.org/wp-content/uploads/2026/02/family-social.jpg
ORGANIZER;CN="Danielle Talaska":MAILTO:danitalaska@gmail.com
END:VEVENT
BEGIN:VEVENT
DTSTART;TZID=America/Toronto:20290222T140000
DTEND;TZID=America/Toronto:20290222T160000
DTSTAMP:20260421T205745
CREATED:20250208T195759Z
LAST-MODIFIED:20250903T235203Z
UID:10006018-1866463200-1866470400@www.hawkestone.org
SUMMARY:Thursday Social Drop-In
DESCRIPTION:The Thursday Social Gathering has started up again. All are welcome. There is no cost although donations for the hall are gratefully accepted.
URL:http://www.hawkestone.org/event/thursday-social-drop-in/2029-02-22/
LOCATION:Hawkestone Community Hall\, 3 Allen St\, Hawkestone\, L0L 1T0
CATEGORIES:Adult event,Family Event,Recreation,Social event
ATTACH;FMTTYPE=image/jpeg:http://www.hawkestone.org/wp-content/uploads/2025/02/Thursday-Social.jpg
ORGANIZER;CN="Becca Rodgers":MAILTO:beccarodgers8@gmail.com
END:VEVENT
BEGIN:VEVENT
DTSTART;TZID=America/Toronto:20290301T100000
DTEND;TZID=America/Toronto:20290301T120000
DTSTAMP:20260421T205745
CREATED:20260217T163654Z
LAST-MODIFIED:20260217T164230Z
UID:10008325-1867053600-1867060800@www.hawkestone.org
SUMMARY:Community Play Group
DESCRIPTION:Hello Hawkestone! Thursdays at the Community Hall just got better. As part of our afternoon Social Program we will now be offering a morning Play Group for children and caregivers from 10am-12pm. Donations are appreciated to help this wonderful new program grow. For now bring a toy or two to share and let’s have some fun!
URL:http://www.hawkestone.org/event/community-play-group/2029-03-01/
LOCATION:Hawkestone Community Hall\, 3 Allen St\, Hawkestone\, L0L 1T0
CATEGORIES:Children's event,Family Event,Lifestyles,Recreation,Social event,Well-being
ATTACH;FMTTYPE=image/jpeg:http://www.hawkestone.org/wp-content/uploads/2026/02/family-social.jpg
ORGANIZER;CN="Danielle Talaska":MAILTO:danitalaska@gmail.com
END:VEVENT
BEGIN:VEVENT
DTSTART;TZID=America/Toronto:20290301T140000
DTEND;TZID=America/Toronto:20290301T160000
DTSTAMP:20260421T205745
CREATED:20250208T195759Z
LAST-MODIFIED:20250903T235203Z
UID:10006019-1867068000-1867075200@www.hawkestone.org
SUMMARY:Thursday Social Drop-In
DESCRIPTION:The Thursday Social Gathering has started up again. All are welcome. There is no cost although donations for the hall are gratefully accepted.
URL:http://www.hawkestone.org/event/thursday-social-drop-in/2029-03-01/
LOCATION:Hawkestone Community Hall\, 3 Allen St\, Hawkestone\, L0L 1T0
CATEGORIES:Adult event,Family Event,Recreation,Social event
ATTACH;FMTTYPE=image/jpeg:http://www.hawkestone.org/wp-content/uploads/2025/02/Thursday-Social.jpg
ORGANIZER;CN="Becca Rodgers":MAILTO:beccarodgers8@gmail.com
END:VEVENT
BEGIN:VEVENT
DTSTART;TZID=America/Toronto:20290308T100000
DTEND;TZID=America/Toronto:20290308T120000
DTSTAMP:20260421T205745
CREATED:20260217T163654Z
LAST-MODIFIED:20260217T164230Z
UID:10008326-1867658400-1867665600@www.hawkestone.org
SUMMARY:Community Play Group
DESCRIPTION:Hello Hawkestone! Thursdays at the Community Hall just got better. As part of our afternoon Social Program we will now be offering a morning Play Group for children and caregivers from 10am-12pm. Donations are appreciated to help this wonderful new program grow. For now bring a toy or two to share and let’s have some fun!
URL:http://www.hawkestone.org/event/community-play-group/2029-03-08/
LOCATION:Hawkestone Community Hall\, 3 Allen St\, Hawkestone\, L0L 1T0
CATEGORIES:Children's event,Family Event,Lifestyles,Recreation,Social event,Well-being
ATTACH;FMTTYPE=image/jpeg:http://www.hawkestone.org/wp-content/uploads/2026/02/family-social.jpg
ORGANIZER;CN="Danielle Talaska":MAILTO:danitalaska@gmail.com
END:VEVENT
BEGIN:VEVENT
DTSTART;TZID=America/Toronto:20290308T140000
DTEND;TZID=America/Toronto:20290308T160000
DTSTAMP:20260421T205745
CREATED:20250208T195759Z
LAST-MODIFIED:20250903T235203Z
UID:10006020-1867672800-1867680000@www.hawkestone.org
SUMMARY:Thursday Social Drop-In
DESCRIPTION:The Thursday Social Gathering has started up again. All are welcome. There is no cost although donations for the hall are gratefully accepted.
URL:http://www.hawkestone.org/event/thursday-social-drop-in/2029-03-08/
LOCATION:Hawkestone Community Hall\, 3 Allen St\, Hawkestone\, L0L 1T0
CATEGORIES:Adult event,Family Event,Recreation,Social event
ATTACH;FMTTYPE=image/jpeg:http://www.hawkestone.org/wp-content/uploads/2025/02/Thursday-Social.jpg
ORGANIZER;CN="Becca Rodgers":MAILTO:beccarodgers8@gmail.com
END:VEVENT
BEGIN:VEVENT
DTSTART;TZID=America/Toronto:20290315T100000
DTEND;TZID=America/Toronto:20290315T120000
DTSTAMP:20260421T205745
CREATED:20260217T163654Z
LAST-MODIFIED:20260217T164230Z
UID:10008327-1868263200-1868270400@www.hawkestone.org
SUMMARY:Community Play Group
DESCRIPTION:Hello Hawkestone! Thursdays at the Community Hall just got better. As part of our afternoon Social Program we will now be offering a morning Play Group for children and caregivers from 10am-12pm. Donations are appreciated to help this wonderful new program grow. For now bring a toy or two to share and let’s have some fun!
URL:http://www.hawkestone.org/event/community-play-group/2029-03-15/
LOCATION:Hawkestone Community Hall\, 3 Allen St\, Hawkestone\, L0L 1T0
CATEGORIES:Children's event,Family Event,Lifestyles,Recreation,Social event,Well-being
ATTACH;FMTTYPE=image/jpeg:http://www.hawkestone.org/wp-content/uploads/2026/02/family-social.jpg
ORGANIZER;CN="Danielle Talaska":MAILTO:danitalaska@gmail.com
END:VEVENT
BEGIN:VEVENT
DTSTART;TZID=America/Toronto:20290315T140000
DTEND;TZID=America/Toronto:20290315T160000
DTSTAMP:20260421T205745
CREATED:20250208T195759Z
LAST-MODIFIED:20250903T235203Z
UID:10006021-1868277600-1868284800@www.hawkestone.org
SUMMARY:Thursday Social Drop-In
DESCRIPTION:The Thursday Social Gathering has started up again. All are welcome. There is no cost although donations for the hall are gratefully accepted.
URL:http://www.hawkestone.org/event/thursday-social-drop-in/2029-03-15/
LOCATION:Hawkestone Community Hall\, 3 Allen St\, Hawkestone\, L0L 1T0
CATEGORIES:Adult event,Family Event,Recreation,Social event
ATTACH;FMTTYPE=image/jpeg:http://www.hawkestone.org/wp-content/uploads/2025/02/Thursday-Social.jpg
ORGANIZER;CN="Becca Rodgers":MAILTO:beccarodgers8@gmail.com
END:VEVENT
BEGIN:VEVENT
DTSTART;TZID=America/Toronto:20290322T100000
DTEND;TZID=America/Toronto:20290322T120000
DTSTAMP:20260421T205745
CREATED:20260217T163654Z
LAST-MODIFIED:20260217T164230Z
UID:10008328-1868868000-1868875200@www.hawkestone.org
SUMMARY:Community Play Group
DESCRIPTION:Hello Hawkestone! Thursdays at the Community Hall just got better. As part of our afternoon Social Program we will now be offering a morning Play Group for children and caregivers from 10am-12pm. Donations are appreciated to help this wonderful new program grow. For now bring a toy or two to share and let’s have some fun!
URL:http://www.hawkestone.org/event/community-play-group/2029-03-22/
LOCATION:Hawkestone Community Hall\, 3 Allen St\, Hawkestone\, L0L 1T0
CATEGORIES:Children's event,Family Event,Lifestyles,Recreation,Social event,Well-being
ATTACH;FMTTYPE=image/jpeg:http://www.hawkestone.org/wp-content/uploads/2026/02/family-social.jpg
ORGANIZER;CN="Danielle Talaska":MAILTO:danitalaska@gmail.com
END:VEVENT
BEGIN:VEVENT
DTSTART;TZID=America/Toronto:20290322T140000
DTEND;TZID=America/Toronto:20290322T160000
DTSTAMP:20260421T205745
CREATED:20250208T195759Z
LAST-MODIFIED:20250903T235203Z
UID:10006022-1868882400-1868889600@www.hawkestone.org
SUMMARY:Thursday Social Drop-In
DESCRIPTION:The Thursday Social Gathering has started up again. All are welcome. There is no cost although donations for the hall are gratefully accepted.
URL:http://www.hawkestone.org/event/thursday-social-drop-in/2029-03-22/
LOCATION:Hawkestone Community Hall\, 3 Allen St\, Hawkestone\, L0L 1T0
CATEGORIES:Adult event,Family Event,Recreation,Social event
ATTACH;FMTTYPE=image/jpeg:http://www.hawkestone.org/wp-content/uploads/2025/02/Thursday-Social.jpg
ORGANIZER;CN="Becca Rodgers":MAILTO:beccarodgers8@gmail.com
END:VEVENT
BEGIN:VEVENT
DTSTART;TZID=America/Toronto:20290329T100000
DTEND;TZID=America/Toronto:20290329T120000
DTSTAMP:20260421T205745
CREATED:20260217T163654Z
LAST-MODIFIED:20260217T164230Z
UID:10008329-1869472800-1869480000@www.hawkestone.org
SUMMARY:Community Play Group
DESCRIPTION:Hello Hawkestone! Thursdays at the Community Hall just got better. As part of our afternoon Social Program we will now be offering a morning Play Group for children and caregivers from 10am-12pm. Donations are appreciated to help this wonderful new program grow. For now bring a toy or two to share and let’s have some fun!
URL:http://www.hawkestone.org/event/community-play-group/2029-03-29/
LOCATION:Hawkestone Community Hall\, 3 Allen St\, Hawkestone\, L0L 1T0
CATEGORIES:Children's event,Family Event,Lifestyles,Recreation,Social event,Well-being
ATTACH;FMTTYPE=image/jpeg:http://www.hawkestone.org/wp-content/uploads/2026/02/family-social.jpg
ORGANIZER;CN="Danielle Talaska":MAILTO:danitalaska@gmail.com
END:VEVENT
BEGIN:VEVENT
DTSTART;TZID=America/Toronto:20290329T140000
DTEND;TZID=America/Toronto:20290329T160000
DTSTAMP:20260421T205745
CREATED:20250208T195759Z
LAST-MODIFIED:20250903T235203Z
UID:10006023-1869487200-1869494400@www.hawkestone.org
SUMMARY:Thursday Social Drop-In
DESCRIPTION:The Thursday Social Gathering has started up again. All are welcome. There is no cost although donations for the hall are gratefully accepted.
URL:http://www.hawkestone.org/event/thursday-social-drop-in/2029-03-29/
LOCATION:Hawkestone Community Hall\, 3 Allen St\, Hawkestone\, L0L 1T0
CATEGORIES:Adult event,Family Event,Recreation,Social event
ATTACH;FMTTYPE=image/jpeg:http://www.hawkestone.org/wp-content/uploads/2025/02/Thursday-Social.jpg
ORGANIZER;CN="Becca Rodgers":MAILTO:beccarodgers8@gmail.com
END:VEVENT
BEGIN:VEVENT
DTSTART;TZID=America/Toronto:20290405T100000
DTEND;TZID=America/Toronto:20290405T120000
DTSTAMP:20260421T205745
CREATED:20260217T163654Z
LAST-MODIFIED:20260217T164230Z
UID:10008330-1870077600-1870084800@www.hawkestone.org
SUMMARY:Community Play Group
DESCRIPTION:Hello Hawkestone! Thursdays at the Community Hall just got better. As part of our afternoon Social Program we will now be offering a morning Play Group for children and caregivers from 10am-12pm. Donations are appreciated to help this wonderful new program grow. For now bring a toy or two to share and let’s have some fun!
URL:http://www.hawkestone.org/event/community-play-group/2029-04-05/
LOCATION:Hawkestone Community Hall\, 3 Allen St\, Hawkestone\, L0L 1T0
CATEGORIES:Children's event,Family Event,Lifestyles,Recreation,Social event,Well-being
ATTACH;FMTTYPE=image/jpeg:http://www.hawkestone.org/wp-content/uploads/2026/02/family-social.jpg
ORGANIZER;CN="Danielle Talaska":MAILTO:danitalaska@gmail.com
END:VEVENT
BEGIN:VEVENT
DTSTART;TZID=America/Toronto:20290405T140000
DTEND;TZID=America/Toronto:20290405T160000
DTSTAMP:20260421T205745
CREATED:20250208T195759Z
LAST-MODIFIED:20250903T235203Z
UID:10006024-1870092000-1870099200@www.hawkestone.org
SUMMARY:Thursday Social Drop-In
DESCRIPTION:The Thursday Social Gathering has started up again. All are welcome. There is no cost although donations for the hall are gratefully accepted.
URL:http://www.hawkestone.org/event/thursday-social-drop-in/2029-04-05/
LOCATION:Hawkestone Community Hall\, 3 Allen St\, Hawkestone\, L0L 1T0
CATEGORIES:Adult event,Family Event,Recreation,Social event
ATTACH;FMTTYPE=image/jpeg:http://www.hawkestone.org/wp-content/uploads/2025/02/Thursday-Social.jpg
ORGANIZER;CN="Becca Rodgers":MAILTO:beccarodgers8@gmail.com
END:VEVENT
BEGIN:VEVENT
DTSTART;TZID=America/Toronto:20290412T100000
DTEND;TZID=America/Toronto:20290412T120000
DTSTAMP:20260421T205745
CREATED:20260217T163654Z
LAST-MODIFIED:20260217T164230Z
UID:10008331-1870682400-1870689600@www.hawkestone.org
SUMMARY:Community Play Group
DESCRIPTION:Hello Hawkestone! Thursdays at the Community Hall just got better. As part of our afternoon Social Program we will now be offering a morning Play Group for children and caregivers from 10am-12pm. Donations are appreciated to help this wonderful new program grow. For now bring a toy or two to share and let’s have some fun!
URL:http://www.hawkestone.org/event/community-play-group/2029-04-12/
LOCATION:Hawkestone Community Hall\, 3 Allen St\, Hawkestone\, L0L 1T0
CATEGORIES:Children's event,Family Event,Lifestyles,Recreation,Social event,Well-being
ATTACH;FMTTYPE=image/jpeg:http://www.hawkestone.org/wp-content/uploads/2026/02/family-social.jpg
ORGANIZER;CN="Danielle Talaska":MAILTO:danitalaska@gmail.com
END:VEVENT
BEGIN:VEVENT
DTSTART;TZID=America/Toronto:20290412T140000
DTEND;TZID=America/Toronto:20290412T160000
DTSTAMP:20260421T205745
CREATED:20250208T195759Z
LAST-MODIFIED:20250903T235203Z
UID:10006025-1870696800-1870704000@www.hawkestone.org
SUMMARY:Thursday Social Drop-In
DESCRIPTION:The Thursday Social Gathering has started up again. All are welcome. There is no cost although donations for the hall are gratefully accepted.
URL:http://www.hawkestone.org/event/thursday-social-drop-in/2029-04-12/
LOCATION:Hawkestone Community Hall\, 3 Allen St\, Hawkestone\, L0L 1T0
CATEGORIES:Adult event,Family Event,Recreation,Social event
ATTACH;FMTTYPE=image/jpeg:http://www.hawkestone.org/wp-content/uploads/2025/02/Thursday-Social.jpg
ORGANIZER;CN="Becca Rodgers":MAILTO:beccarodgers8@gmail.com
END:VEVENT
BEGIN:VEVENT
DTSTART;TZID=America/Toronto:20290419T100000
DTEND;TZID=America/Toronto:20290419T120000
DTSTAMP:20260421T205745
CREATED:20260217T163654Z
LAST-MODIFIED:20260217T164230Z
UID:10008332-1871287200-1871294400@www.hawkestone.org
SUMMARY:Community Play Group
DESCRIPTION:Hello Hawkestone! Thursdays at the Community Hall just got better. As part of our afternoon Social Program we will now be offering a morning Play Group for children and caregivers from 10am-12pm. Donations are appreciated to help this wonderful new program grow. For now bring a toy or two to share and let’s have some fun!
URL:http://www.hawkestone.org/event/community-play-group/2029-04-19/
LOCATION:Hawkestone Community Hall\, 3 Allen St\, Hawkestone\, L0L 1T0
CATEGORIES:Children's event,Family Event,Lifestyles,Recreation,Social event,Well-being
ATTACH;FMTTYPE=image/jpeg:http://www.hawkestone.org/wp-content/uploads/2026/02/family-social.jpg
ORGANIZER;CN="Danielle Talaska":MAILTO:danitalaska@gmail.com
END:VEVENT
BEGIN:VEVENT
DTSTART;TZID=America/Toronto:20290419T140000
DTEND;TZID=America/Toronto:20290419T160000
DTSTAMP:20260421T205745
CREATED:20250208T195759Z
LAST-MODIFIED:20250903T235203Z
UID:10006026-1871301600-1871308800@www.hawkestone.org
SUMMARY:Thursday Social Drop-In
DESCRIPTION:The Thursday Social Gathering has started up again. All are welcome. There is no cost although donations for the hall are gratefully accepted.
URL:http://www.hawkestone.org/event/thursday-social-drop-in/2029-04-19/
LOCATION:Hawkestone Community Hall\, 3 Allen St\, Hawkestone\, L0L 1T0
CATEGORIES:Adult event,Family Event,Recreation,Social event
ATTACH;FMTTYPE=image/jpeg:http://www.hawkestone.org/wp-content/uploads/2025/02/Thursday-Social.jpg
ORGANIZER;CN="Becca Rodgers":MAILTO:beccarodgers8@gmail.com
END:VEVENT
BEGIN:VEVENT
DTSTART;TZID=America/Toronto:20290426T100000
DTEND;TZID=America/Toronto:20290426T120000
DTSTAMP:20260421T205745
CREATED:20260217T163654Z
LAST-MODIFIED:20260217T164230Z
UID:10008333-1871892000-1871899200@www.hawkestone.org
SUMMARY:Community Play Group
DESCRIPTION:Hello Hawkestone! Thursdays at the Community Hall just got better. As part of our afternoon Social Program we will now be offering a morning Play Group for children and caregivers from 10am-12pm. Donations are appreciated to help this wonderful new program grow. For now bring a toy or two to share and let’s have some fun!
URL:http://www.hawkestone.org/event/community-play-group/2029-04-26/
LOCATION:Hawkestone Community Hall\, 3 Allen St\, Hawkestone\, L0L 1T0
CATEGORIES:Children's event,Family Event,Lifestyles,Recreation,Social event,Well-being
ATTACH;FMTTYPE=image/jpeg:http://www.hawkestone.org/wp-content/uploads/2026/02/family-social.jpg
ORGANIZER;CN="Danielle Talaska":MAILTO:danitalaska@gmail.com
END:VEVENT
BEGIN:VEVENT
DTSTART;TZID=America/Toronto:20290426T140000
DTEND;TZID=America/Toronto:20290426T160000
DTSTAMP:20260421T205745
CREATED:20250208T195759Z
LAST-MODIFIED:20250903T235203Z
UID:10006027-1871906400-1871913600@www.hawkestone.org
SUMMARY:Thursday Social Drop-In
DESCRIPTION:The Thursday Social Gathering has started up again. All are welcome. There is no cost although donations for the hall are gratefully accepted.
URL:http://www.hawkestone.org/event/thursday-social-drop-in/2029-04-26/
LOCATION:Hawkestone Community Hall\, 3 Allen St\, Hawkestone\, L0L 1T0
CATEGORIES:Adult event,Family Event,Recreation,Social event
ATTACH;FMTTYPE=image/jpeg:http://www.hawkestone.org/wp-content/uploads/2025/02/Thursday-Social.jpg
ORGANIZER;CN="Becca Rodgers":MAILTO:beccarodgers8@gmail.com
END:VEVENT
END:VCALENDAR