BEGIN:VCALENDAR
VERSION:2.0
PRODID:-//Hawkestone Community Hall - ECPv6.15.20//NONSGML v1.0//EN
CALSCALE:GREGORIAN
METHOD:PUBLISH
X-ORIGINAL-URL:http://www.hawkestone.org
X-WR-CALDESC:Events for Hawkestone Community Hall
REFRESH-INTERVAL;VALUE=DURATION:PT1H
X-Robots-Tag:noindex
X-PUBLISHED-TTL:PT1H
BEGIN:VTIMEZONE
TZID:America/Toronto
BEGIN:DAYLIGHT
TZOFFSETFROM:-0500
TZOFFSETTO:-0400
TZNAME:EDT
DTSTART:20290311T070000
END:DAYLIGHT
BEGIN:STANDARD
TZOFFSETFROM:-0400
TZOFFSETTO:-0500
TZNAME:EST
DTSTART:20291104T060000
END:STANDARD
BEGIN:DAYLIGHT
TZOFFSETFROM:-0500
TZOFFSETTO:-0400
TZNAME:EDT
DTSTART:20300310T070000
END:DAYLIGHT
BEGIN:STANDARD
TZOFFSETFROM:-0400
TZOFFSETTO:-0500
TZNAME:EST
DTSTART:20301103T060000
END:STANDARD
BEGIN:DAYLIGHT
TZOFFSETFROM:-0500
TZOFFSETTO:-0400
TZNAME:EDT
DTSTART:20310309T070000
END:DAYLIGHT
BEGIN:STANDARD
TZOFFSETFROM:-0400
TZOFFSETTO:-0500
TZNAME:EST
DTSTART:20311102T060000
END:STANDARD
END:VTIMEZONE
BEGIN:VEVENT
DTSTART;TZID=America/Toronto:20300110T100000
DTEND;TZID=America/Toronto:20300110T120000
DTSTAMP:20260422T185747
CREATED:20260217T163654Z
LAST-MODIFIED:20260217T164230Z
UID:10008370-1894269600-1894276800@www.hawkestone.org
SUMMARY:Community Play Group
DESCRIPTION:Hello Hawkestone! Thursdays at the Community Hall just got better. As part of our afternoon Social Program we will now be offering a morning Play Group for children and caregivers from 10am-12pm. Donations are appreciated to help this wonderful new program grow. For now bring a toy or two to share and let’s have some fun!
URL:http://www.hawkestone.org/event/community-play-group/2030-01-10/
LOCATION:Hawkestone Community Hall\, 3 Allen St\, Hawkestone\, L0L 1T0
CATEGORIES:Children's event,Family Event,Lifestyles,Recreation,Social event,Well-being
ATTACH;FMTTYPE=image/jpeg:http://www.hawkestone.org/wp-content/uploads/2026/02/family-social.jpg
ORGANIZER;CN="Danielle Talaska":MAILTO:danitalaska@gmail.com
END:VEVENT
BEGIN:VEVENT
DTSTART;TZID=America/Toronto:20300110T140000
DTEND;TZID=America/Toronto:20300110T160000
DTSTAMP:20260422T185747
CREATED:20250208T195759Z
LAST-MODIFIED:20250903T235203Z
UID:10006064-1894284000-1894291200@www.hawkestone.org
SUMMARY:Thursday Social Drop-In
DESCRIPTION:The Thursday Social Gathering has started up again. All are welcome. There is no cost although donations for the hall are gratefully accepted.
URL:http://www.hawkestone.org/event/thursday-social-drop-in/2030-01-10/
LOCATION:Hawkestone Community Hall\, 3 Allen St\, Hawkestone\, L0L 1T0
CATEGORIES:Adult event,Family Event,Recreation,Social event
ATTACH;FMTTYPE=image/jpeg:http://www.hawkestone.org/wp-content/uploads/2025/02/Thursday-Social.jpg
ORGANIZER;CN="Becca Rodgers":MAILTO:beccarodgers8@gmail.com
END:VEVENT
BEGIN:VEVENT
DTSTART;TZID=America/Toronto:20300117T100000
DTEND;TZID=America/Toronto:20300117T120000
DTSTAMP:20260422T185747
CREATED:20260217T163654Z
LAST-MODIFIED:20260217T164230Z
UID:10008371-1894874400-1894881600@www.hawkestone.org
SUMMARY:Community Play Group
DESCRIPTION:Hello Hawkestone! Thursdays at the Community Hall just got better. As part of our afternoon Social Program we will now be offering a morning Play Group for children and caregivers from 10am-12pm. Donations are appreciated to help this wonderful new program grow. For now bring a toy or two to share and let’s have some fun!
URL:http://www.hawkestone.org/event/community-play-group/2030-01-17/
LOCATION:Hawkestone Community Hall\, 3 Allen St\, Hawkestone\, L0L 1T0
CATEGORIES:Children's event,Family Event,Lifestyles,Recreation,Social event,Well-being
ATTACH;FMTTYPE=image/jpeg:http://www.hawkestone.org/wp-content/uploads/2026/02/family-social.jpg
ORGANIZER;CN="Danielle Talaska":MAILTO:danitalaska@gmail.com
END:VEVENT
BEGIN:VEVENT
DTSTART;TZID=America/Toronto:20300117T140000
DTEND;TZID=America/Toronto:20300117T160000
DTSTAMP:20260422T185747
CREATED:20250208T195759Z
LAST-MODIFIED:20250903T235203Z
UID:10006065-1894888800-1894896000@www.hawkestone.org
SUMMARY:Thursday Social Drop-In
DESCRIPTION:The Thursday Social Gathering has started up again. All are welcome. There is no cost although donations for the hall are gratefully accepted.
URL:http://www.hawkestone.org/event/thursday-social-drop-in/2030-01-17/
LOCATION:Hawkestone Community Hall\, 3 Allen St\, Hawkestone\, L0L 1T0
CATEGORIES:Adult event,Family Event,Recreation,Social event
ATTACH;FMTTYPE=image/jpeg:http://www.hawkestone.org/wp-content/uploads/2025/02/Thursday-Social.jpg
ORGANIZER;CN="Becca Rodgers":MAILTO:beccarodgers8@gmail.com
END:VEVENT
BEGIN:VEVENT
DTSTART;TZID=America/Toronto:20300124T100000
DTEND;TZID=America/Toronto:20300124T120000
DTSTAMP:20260422T185747
CREATED:20260217T163654Z
LAST-MODIFIED:20260217T164230Z
UID:10008372-1895479200-1895486400@www.hawkestone.org
SUMMARY:Community Play Group
DESCRIPTION:Hello Hawkestone! Thursdays at the Community Hall just got better. As part of our afternoon Social Program we will now be offering a morning Play Group for children and caregivers from 10am-12pm. Donations are appreciated to help this wonderful new program grow. For now bring a toy or two to share and let’s have some fun!
URL:http://www.hawkestone.org/event/community-play-group/2030-01-24/
LOCATION:Hawkestone Community Hall\, 3 Allen St\, Hawkestone\, L0L 1T0
CATEGORIES:Children's event,Family Event,Lifestyles,Recreation,Social event,Well-being
ATTACH;FMTTYPE=image/jpeg:http://www.hawkestone.org/wp-content/uploads/2026/02/family-social.jpg
ORGANIZER;CN="Danielle Talaska":MAILTO:danitalaska@gmail.com
END:VEVENT
BEGIN:VEVENT
DTSTART;TZID=America/Toronto:20300124T140000
DTEND;TZID=America/Toronto:20300124T160000
DTSTAMP:20260422T185747
CREATED:20250208T195759Z
LAST-MODIFIED:20250903T235203Z
UID:10006066-1895493600-1895500800@www.hawkestone.org
SUMMARY:Thursday Social Drop-In
DESCRIPTION:The Thursday Social Gathering has started up again. All are welcome. There is no cost although donations for the hall are gratefully accepted.
URL:http://www.hawkestone.org/event/thursday-social-drop-in/2030-01-24/
LOCATION:Hawkestone Community Hall\, 3 Allen St\, Hawkestone\, L0L 1T0
CATEGORIES:Adult event,Family Event,Recreation,Social event
ATTACH;FMTTYPE=image/jpeg:http://www.hawkestone.org/wp-content/uploads/2025/02/Thursday-Social.jpg
ORGANIZER;CN="Becca Rodgers":MAILTO:beccarodgers8@gmail.com
END:VEVENT
BEGIN:VEVENT
DTSTART;TZID=America/Toronto:20300131T100000
DTEND;TZID=America/Toronto:20300131T120000
DTSTAMP:20260422T185747
CREATED:20260217T163654Z
LAST-MODIFIED:20260217T164230Z
UID:10008373-1896084000-1896091200@www.hawkestone.org
SUMMARY:Community Play Group
DESCRIPTION:Hello Hawkestone! Thursdays at the Community Hall just got better. As part of our afternoon Social Program we will now be offering a morning Play Group for children and caregivers from 10am-12pm. Donations are appreciated to help this wonderful new program grow. For now bring a toy or two to share and let’s have some fun!
URL:http://www.hawkestone.org/event/community-play-group/2030-01-31/
LOCATION:Hawkestone Community Hall\, 3 Allen St\, Hawkestone\, L0L 1T0
CATEGORIES:Children's event,Family Event,Lifestyles,Recreation,Social event,Well-being
ATTACH;FMTTYPE=image/jpeg:http://www.hawkestone.org/wp-content/uploads/2026/02/family-social.jpg
ORGANIZER;CN="Danielle Talaska":MAILTO:danitalaska@gmail.com
END:VEVENT
BEGIN:VEVENT
DTSTART;TZID=America/Toronto:20300131T140000
DTEND;TZID=America/Toronto:20300131T160000
DTSTAMP:20260422T185747
CREATED:20250208T195759Z
LAST-MODIFIED:20250903T235203Z
UID:10006067-1896098400-1896105600@www.hawkestone.org
SUMMARY:Thursday Social Drop-In
DESCRIPTION:The Thursday Social Gathering has started up again. All are welcome. There is no cost although donations for the hall are gratefully accepted.
URL:http://www.hawkestone.org/event/thursday-social-drop-in/2030-01-31/
LOCATION:Hawkestone Community Hall\, 3 Allen St\, Hawkestone\, L0L 1T0
CATEGORIES:Adult event,Family Event,Recreation,Social event
ATTACH;FMTTYPE=image/jpeg:http://www.hawkestone.org/wp-content/uploads/2025/02/Thursday-Social.jpg
ORGANIZER;CN="Becca Rodgers":MAILTO:beccarodgers8@gmail.com
END:VEVENT
BEGIN:VEVENT
DTSTART;TZID=America/Toronto:20300207T100000
DTEND;TZID=America/Toronto:20300207T120000
DTSTAMP:20260422T185747
CREATED:20260217T163654Z
LAST-MODIFIED:20260217T164230Z
UID:10008374-1896688800-1896696000@www.hawkestone.org
SUMMARY:Community Play Group
DESCRIPTION:Hello Hawkestone! Thursdays at the Community Hall just got better. As part of our afternoon Social Program we will now be offering a morning Play Group for children and caregivers from 10am-12pm. Donations are appreciated to help this wonderful new program grow. For now bring a toy or two to share and let’s have some fun!
URL:http://www.hawkestone.org/event/community-play-group/2030-02-07/
LOCATION:Hawkestone Community Hall\, 3 Allen St\, Hawkestone\, L0L 1T0
CATEGORIES:Children's event,Family Event,Lifestyles,Recreation,Social event,Well-being
ATTACH;FMTTYPE=image/jpeg:http://www.hawkestone.org/wp-content/uploads/2026/02/family-social.jpg
ORGANIZER;CN="Danielle Talaska":MAILTO:danitalaska@gmail.com
END:VEVENT
BEGIN:VEVENT
DTSTART;TZID=America/Toronto:20300207T140000
DTEND;TZID=America/Toronto:20300207T160000
DTSTAMP:20260422T185747
CREATED:20250208T195759Z
LAST-MODIFIED:20250903T235203Z
UID:10006068-1896703200-1896710400@www.hawkestone.org
SUMMARY:Thursday Social Drop-In
DESCRIPTION:The Thursday Social Gathering has started up again. All are welcome. There is no cost although donations for the hall are gratefully accepted.
URL:http://www.hawkestone.org/event/thursday-social-drop-in/2030-02-07/
LOCATION:Hawkestone Community Hall\, 3 Allen St\, Hawkestone\, L0L 1T0
CATEGORIES:Adult event,Family Event,Recreation,Social event
ATTACH;FMTTYPE=image/jpeg:http://www.hawkestone.org/wp-content/uploads/2025/02/Thursday-Social.jpg
ORGANIZER;CN="Becca Rodgers":MAILTO:beccarodgers8@gmail.com
END:VEVENT
BEGIN:VEVENT
DTSTART;TZID=America/Toronto:20300214T100000
DTEND;TZID=America/Toronto:20300214T120000
DTSTAMP:20260422T185747
CREATED:20260217T163654Z
LAST-MODIFIED:20260217T164230Z
UID:10008375-1897293600-1897300800@www.hawkestone.org
SUMMARY:Community Play Group
DESCRIPTION:Hello Hawkestone! Thursdays at the Community Hall just got better. As part of our afternoon Social Program we will now be offering a morning Play Group for children and caregivers from 10am-12pm. Donations are appreciated to help this wonderful new program grow. For now bring a toy or two to share and let’s have some fun!
URL:http://www.hawkestone.org/event/community-play-group/2030-02-14/
LOCATION:Hawkestone Community Hall\, 3 Allen St\, Hawkestone\, L0L 1T0
CATEGORIES:Children's event,Family Event,Lifestyles,Recreation,Social event,Well-being
ATTACH;FMTTYPE=image/jpeg:http://www.hawkestone.org/wp-content/uploads/2026/02/family-social.jpg
ORGANIZER;CN="Danielle Talaska":MAILTO:danitalaska@gmail.com
END:VEVENT
BEGIN:VEVENT
DTSTART;TZID=America/Toronto:20300214T140000
DTEND;TZID=America/Toronto:20300214T160000
DTSTAMP:20260422T185747
CREATED:20250208T195759Z
LAST-MODIFIED:20250903T235203Z
UID:10007002-1897308000-1897315200@www.hawkestone.org
SUMMARY:Thursday Social Drop-In
DESCRIPTION:The Thursday Social Gathering has started up again. All are welcome. There is no cost although donations for the hall are gratefully accepted.
URL:http://www.hawkestone.org/event/thursday-social-drop-in/2030-02-14/
LOCATION:Hawkestone Community Hall\, 3 Allen St\, Hawkestone\, L0L 1T0
CATEGORIES:Adult event,Family Event,Recreation,Social event
ATTACH;FMTTYPE=image/jpeg:http://www.hawkestone.org/wp-content/uploads/2025/02/Thursday-Social.jpg
ORGANIZER;CN="Becca Rodgers":MAILTO:beccarodgers8@gmail.com
END:VEVENT
BEGIN:VEVENT
DTSTART;TZID=America/Toronto:20300221T100000
DTEND;TZID=America/Toronto:20300221T120000
DTSTAMP:20260422T185747
CREATED:20260217T163654Z
LAST-MODIFIED:20260217T164230Z
UID:10008376-1897898400-1897905600@www.hawkestone.org
SUMMARY:Community Play Group
DESCRIPTION:Hello Hawkestone! Thursdays at the Community Hall just got better. As part of our afternoon Social Program we will now be offering a morning Play Group for children and caregivers from 10am-12pm. Donations are appreciated to help this wonderful new program grow. For now bring a toy or two to share and let’s have some fun!
URL:http://www.hawkestone.org/event/community-play-group/2030-02-21/
LOCATION:Hawkestone Community Hall\, 3 Allen St\, Hawkestone\, L0L 1T0
CATEGORIES:Children's event,Family Event,Lifestyles,Recreation,Social event,Well-being
ATTACH;FMTTYPE=image/jpeg:http://www.hawkestone.org/wp-content/uploads/2026/02/family-social.jpg
ORGANIZER;CN="Danielle Talaska":MAILTO:danitalaska@gmail.com
END:VEVENT
BEGIN:VEVENT
DTSTART;TZID=America/Toronto:20300221T140000
DTEND;TZID=America/Toronto:20300221T160000
DTSTAMP:20260422T185747
CREATED:20250208T195759Z
LAST-MODIFIED:20250903T235203Z
UID:10007003-1897912800-1897920000@www.hawkestone.org
SUMMARY:Thursday Social Drop-In
DESCRIPTION:The Thursday Social Gathering has started up again. All are welcome. There is no cost although donations for the hall are gratefully accepted.
URL:http://www.hawkestone.org/event/thursday-social-drop-in/2030-02-21/
LOCATION:Hawkestone Community Hall\, 3 Allen St\, Hawkestone\, L0L 1T0
CATEGORIES:Adult event,Family Event,Recreation,Social event
ATTACH;FMTTYPE=image/jpeg:http://www.hawkestone.org/wp-content/uploads/2025/02/Thursday-Social.jpg
ORGANIZER;CN="Becca Rodgers":MAILTO:beccarodgers8@gmail.com
END:VEVENT
BEGIN:VEVENT
DTSTART;TZID=America/Toronto:20300228T100000
DTEND;TZID=America/Toronto:20300228T120000
DTSTAMP:20260422T185747
CREATED:20260217T163654Z
LAST-MODIFIED:20260217T164230Z
UID:10008377-1898503200-1898510400@www.hawkestone.org
SUMMARY:Community Play Group
DESCRIPTION:Hello Hawkestone! Thursdays at the Community Hall just got better. As part of our afternoon Social Program we will now be offering a morning Play Group for children and caregivers from 10am-12pm. Donations are appreciated to help this wonderful new program grow. For now bring a toy or two to share and let’s have some fun!
URL:http://www.hawkestone.org/event/community-play-group/2030-02-28/
LOCATION:Hawkestone Community Hall\, 3 Allen St\, Hawkestone\, L0L 1T0
CATEGORIES:Children's event,Family Event,Lifestyles,Recreation,Social event,Well-being
ATTACH;FMTTYPE=image/jpeg:http://www.hawkestone.org/wp-content/uploads/2026/02/family-social.jpg
ORGANIZER;CN="Danielle Talaska":MAILTO:danitalaska@gmail.com
END:VEVENT
BEGIN:VEVENT
DTSTART;TZID=America/Toronto:20300228T140000
DTEND;TZID=America/Toronto:20300228T160000
DTSTAMP:20260422T185747
CREATED:20250208T195759Z
LAST-MODIFIED:20250903T235203Z
UID:10007004-1898517600-1898524800@www.hawkestone.org
SUMMARY:Thursday Social Drop-In
DESCRIPTION:The Thursday Social Gathering has started up again. All are welcome. There is no cost although donations for the hall are gratefully accepted.
URL:http://www.hawkestone.org/event/thursday-social-drop-in/2030-02-28/
LOCATION:Hawkestone Community Hall\, 3 Allen St\, Hawkestone\, L0L 1T0
CATEGORIES:Adult event,Family Event,Recreation,Social event
ATTACH;FMTTYPE=image/jpeg:http://www.hawkestone.org/wp-content/uploads/2025/02/Thursday-Social.jpg
ORGANIZER;CN="Becca Rodgers":MAILTO:beccarodgers8@gmail.com
END:VEVENT
BEGIN:VEVENT
DTSTART;TZID=America/Toronto:20300307T100000
DTEND;TZID=America/Toronto:20300307T120000
DTSTAMP:20260422T185747
CREATED:20260217T163654Z
LAST-MODIFIED:20260217T164230Z
UID:10008378-1899108000-1899115200@www.hawkestone.org
SUMMARY:Community Play Group
DESCRIPTION:Hello Hawkestone! Thursdays at the Community Hall just got better. As part of our afternoon Social Program we will now be offering a morning Play Group for children and caregivers from 10am-12pm. Donations are appreciated to help this wonderful new program grow. For now bring a toy or two to share and let’s have some fun!
URL:http://www.hawkestone.org/event/community-play-group/2030-03-07/
LOCATION:Hawkestone Community Hall\, 3 Allen St\, Hawkestone\, L0L 1T0
CATEGORIES:Children's event,Family Event,Lifestyles,Recreation,Social event,Well-being
ATTACH;FMTTYPE=image/jpeg:http://www.hawkestone.org/wp-content/uploads/2026/02/family-social.jpg
ORGANIZER;CN="Danielle Talaska":MAILTO:danitalaska@gmail.com
END:VEVENT
BEGIN:VEVENT
DTSTART;TZID=America/Toronto:20300307T140000
DTEND;TZID=America/Toronto:20300307T160000
DTSTAMP:20260422T185747
CREATED:20250208T195759Z
LAST-MODIFIED:20250903T235203Z
UID:10007005-1899122400-1899129600@www.hawkestone.org
SUMMARY:Thursday Social Drop-In
DESCRIPTION:The Thursday Social Gathering has started up again. All are welcome. There is no cost although donations for the hall are gratefully accepted.
URL:http://www.hawkestone.org/event/thursday-social-drop-in/2030-03-07/
LOCATION:Hawkestone Community Hall\, 3 Allen St\, Hawkestone\, L0L 1T0
CATEGORIES:Adult event,Family Event,Recreation,Social event
ATTACH;FMTTYPE=image/jpeg:http://www.hawkestone.org/wp-content/uploads/2025/02/Thursday-Social.jpg
ORGANIZER;CN="Becca Rodgers":MAILTO:beccarodgers8@gmail.com
END:VEVENT
BEGIN:VEVENT
DTSTART;TZID=America/Toronto:20300314T100000
DTEND;TZID=America/Toronto:20300314T120000
DTSTAMP:20260422T185747
CREATED:20260217T163654Z
LAST-MODIFIED:20260217T164230Z
UID:10008379-1899712800-1899720000@www.hawkestone.org
SUMMARY:Community Play Group
DESCRIPTION:Hello Hawkestone! Thursdays at the Community Hall just got better. As part of our afternoon Social Program we will now be offering a morning Play Group for children and caregivers from 10am-12pm. Donations are appreciated to help this wonderful new program grow. For now bring a toy or two to share and let’s have some fun!
URL:http://www.hawkestone.org/event/community-play-group/2030-03-14/
LOCATION:Hawkestone Community Hall\, 3 Allen St\, Hawkestone\, L0L 1T0
CATEGORIES:Children's event,Family Event,Lifestyles,Recreation,Social event,Well-being
ATTACH;FMTTYPE=image/jpeg:http://www.hawkestone.org/wp-content/uploads/2026/02/family-social.jpg
ORGANIZER;CN="Danielle Talaska":MAILTO:danitalaska@gmail.com
END:VEVENT
BEGIN:VEVENT
DTSTART;TZID=America/Toronto:20300314T140000
DTEND;TZID=America/Toronto:20300314T160000
DTSTAMP:20260422T185747
CREATED:20250208T195759Z
LAST-MODIFIED:20250903T235203Z
UID:10007020-1899727200-1899734400@www.hawkestone.org
SUMMARY:Thursday Social Drop-In
DESCRIPTION:The Thursday Social Gathering has started up again. All are welcome. There is no cost although donations for the hall are gratefully accepted.
URL:http://www.hawkestone.org/event/thursday-social-drop-in/2030-03-14/
LOCATION:Hawkestone Community Hall\, 3 Allen St\, Hawkestone\, L0L 1T0
CATEGORIES:Adult event,Family Event,Recreation,Social event
ATTACH;FMTTYPE=image/jpeg:http://www.hawkestone.org/wp-content/uploads/2025/02/Thursday-Social.jpg
ORGANIZER;CN="Becca Rodgers":MAILTO:beccarodgers8@gmail.com
END:VEVENT
BEGIN:VEVENT
DTSTART;TZID=America/Toronto:20300321T100000
DTEND;TZID=America/Toronto:20300321T120000
DTSTAMP:20260422T185747
CREATED:20260217T163654Z
LAST-MODIFIED:20260217T164230Z
UID:10008380-1900317600-1900324800@www.hawkestone.org
SUMMARY:Community Play Group
DESCRIPTION:Hello Hawkestone! Thursdays at the Community Hall just got better. As part of our afternoon Social Program we will now be offering a morning Play Group for children and caregivers from 10am-12pm. Donations are appreciated to help this wonderful new program grow. For now bring a toy or two to share and let’s have some fun!
URL:http://www.hawkestone.org/event/community-play-group/2030-03-21/
LOCATION:Hawkestone Community Hall\, 3 Allen St\, Hawkestone\, L0L 1T0
CATEGORIES:Children's event,Family Event,Lifestyles,Recreation,Social event,Well-being
ATTACH;FMTTYPE=image/jpeg:http://www.hawkestone.org/wp-content/uploads/2026/02/family-social.jpg
ORGANIZER;CN="Danielle Talaska":MAILTO:danitalaska@gmail.com
END:VEVENT
BEGIN:VEVENT
DTSTART;TZID=America/Toronto:20300321T140000
DTEND;TZID=America/Toronto:20300321T160000
DTSTAMP:20260422T185747
CREATED:20250208T195759Z
LAST-MODIFIED:20250903T235203Z
UID:10007088-1900332000-1900339200@www.hawkestone.org
SUMMARY:Thursday Social Drop-In
DESCRIPTION:The Thursday Social Gathering has started up again. All are welcome. There is no cost although donations for the hall are gratefully accepted.
URL:http://www.hawkestone.org/event/thursday-social-drop-in/2030-03-21/
LOCATION:Hawkestone Community Hall\, 3 Allen St\, Hawkestone\, L0L 1T0
CATEGORIES:Adult event,Family Event,Recreation,Social event
ATTACH;FMTTYPE=image/jpeg:http://www.hawkestone.org/wp-content/uploads/2025/02/Thursday-Social.jpg
ORGANIZER;CN="Becca Rodgers":MAILTO:beccarodgers8@gmail.com
END:VEVENT
BEGIN:VEVENT
DTSTART;TZID=America/Toronto:20300328T100000
DTEND;TZID=America/Toronto:20300328T120000
DTSTAMP:20260422T185747
CREATED:20260217T163654Z
LAST-MODIFIED:20260217T164230Z
UID:10008381-1900922400-1900929600@www.hawkestone.org
SUMMARY:Community Play Group
DESCRIPTION:Hello Hawkestone! Thursdays at the Community Hall just got better. As part of our afternoon Social Program we will now be offering a morning Play Group for children and caregivers from 10am-12pm. Donations are appreciated to help this wonderful new program grow. For now bring a toy or two to share and let’s have some fun!
URL:http://www.hawkestone.org/event/community-play-group/2030-03-28/
LOCATION:Hawkestone Community Hall\, 3 Allen St\, Hawkestone\, L0L 1T0
CATEGORIES:Children's event,Family Event,Lifestyles,Recreation,Social event,Well-being
ATTACH;FMTTYPE=image/jpeg:http://www.hawkestone.org/wp-content/uploads/2026/02/family-social.jpg
ORGANIZER;CN="Danielle Talaska":MAILTO:danitalaska@gmail.com
END:VEVENT
BEGIN:VEVENT
DTSTART;TZID=America/Toronto:20300328T140000
DTEND;TZID=America/Toronto:20300328T160000
DTSTAMP:20260422T185747
CREATED:20250208T195759Z
LAST-MODIFIED:20250903T235203Z
UID:10007094-1900936800-1900944000@www.hawkestone.org
SUMMARY:Thursday Social Drop-In
DESCRIPTION:The Thursday Social Gathering has started up again. All are welcome. There is no cost although donations for the hall are gratefully accepted.
URL:http://www.hawkestone.org/event/thursday-social-drop-in/2030-03-28/
LOCATION:Hawkestone Community Hall\, 3 Allen St\, Hawkestone\, L0L 1T0
CATEGORIES:Adult event,Family Event,Recreation,Social event
ATTACH;FMTTYPE=image/jpeg:http://www.hawkestone.org/wp-content/uploads/2025/02/Thursday-Social.jpg
ORGANIZER;CN="Becca Rodgers":MAILTO:beccarodgers8@gmail.com
END:VEVENT
BEGIN:VEVENT
DTSTART;TZID=America/Toronto:20300404T100000
DTEND;TZID=America/Toronto:20300404T120000
DTSTAMP:20260422T185747
CREATED:20260217T163654Z
LAST-MODIFIED:20260217T164230Z
UID:10008382-1901527200-1901534400@www.hawkestone.org
SUMMARY:Community Play Group
DESCRIPTION:Hello Hawkestone! Thursdays at the Community Hall just got better. As part of our afternoon Social Program we will now be offering a morning Play Group for children and caregivers from 10am-12pm. Donations are appreciated to help this wonderful new program grow. For now bring a toy or two to share and let’s have some fun!
URL:http://www.hawkestone.org/event/community-play-group/2030-04-04/
LOCATION:Hawkestone Community Hall\, 3 Allen St\, Hawkestone\, L0L 1T0
CATEGORIES:Children's event,Family Event,Lifestyles,Recreation,Social event,Well-being
ATTACH;FMTTYPE=image/jpeg:http://www.hawkestone.org/wp-content/uploads/2026/02/family-social.jpg
ORGANIZER;CN="Danielle Talaska":MAILTO:danitalaska@gmail.com
END:VEVENT
BEGIN:VEVENT
DTSTART;TZID=America/Toronto:20300404T140000
DTEND;TZID=America/Toronto:20300404T160000
DTSTAMP:20260422T185747
CREATED:20250208T195759Z
LAST-MODIFIED:20250903T235203Z
UID:10007095-1901541600-1901548800@www.hawkestone.org
SUMMARY:Thursday Social Drop-In
DESCRIPTION:The Thursday Social Gathering has started up again. All are welcome. There is no cost although donations for the hall are gratefully accepted.
URL:http://www.hawkestone.org/event/thursday-social-drop-in/2030-04-04/
LOCATION:Hawkestone Community Hall\, 3 Allen St\, Hawkestone\, L0L 1T0
CATEGORIES:Adult event,Family Event,Recreation,Social event
ATTACH;FMTTYPE=image/jpeg:http://www.hawkestone.org/wp-content/uploads/2025/02/Thursday-Social.jpg
ORGANIZER;CN="Becca Rodgers":MAILTO:beccarodgers8@gmail.com
END:VEVENT
BEGIN:VEVENT
DTSTART;TZID=America/Toronto:20300411T100000
DTEND;TZID=America/Toronto:20300411T120000
DTSTAMP:20260422T185747
CREATED:20260217T163654Z
LAST-MODIFIED:20260217T164230Z
UID:10008383-1902132000-1902139200@www.hawkestone.org
SUMMARY:Community Play Group
DESCRIPTION:Hello Hawkestone! Thursdays at the Community Hall just got better. As part of our afternoon Social Program we will now be offering a morning Play Group for children and caregivers from 10am-12pm. Donations are appreciated to help this wonderful new program grow. For now bring a toy or two to share and let’s have some fun!
URL:http://www.hawkestone.org/event/community-play-group/2030-04-11/
LOCATION:Hawkestone Community Hall\, 3 Allen St\, Hawkestone\, L0L 1T0
CATEGORIES:Children's event,Family Event,Lifestyles,Recreation,Social event,Well-being
ATTACH;FMTTYPE=image/jpeg:http://www.hawkestone.org/wp-content/uploads/2026/02/family-social.jpg
ORGANIZER;CN="Danielle Talaska":MAILTO:danitalaska@gmail.com
END:VEVENT
BEGIN:VEVENT
DTSTART;TZID=America/Toronto:20300411T140000
DTEND;TZID=America/Toronto:20300411T160000
DTSTAMP:20260422T185747
CREATED:20250208T195759Z
LAST-MODIFIED:20250903T235203Z
UID:10007099-1902146400-1902153600@www.hawkestone.org
SUMMARY:Thursday Social Drop-In
DESCRIPTION:The Thursday Social Gathering has started up again. All are welcome. There is no cost although donations for the hall are gratefully accepted.
URL:http://www.hawkestone.org/event/thursday-social-drop-in/2030-04-11/
LOCATION:Hawkestone Community Hall\, 3 Allen St\, Hawkestone\, L0L 1T0
CATEGORIES:Adult event,Family Event,Recreation,Social event
ATTACH;FMTTYPE=image/jpeg:http://www.hawkestone.org/wp-content/uploads/2025/02/Thursday-Social.jpg
ORGANIZER;CN="Becca Rodgers":MAILTO:beccarodgers8@gmail.com
END:VEVENT
BEGIN:VEVENT
DTSTART;TZID=America/Toronto:20300418T100000
DTEND;TZID=America/Toronto:20300418T120000
DTSTAMP:20260422T185747
CREATED:20260217T163654Z
LAST-MODIFIED:20260217T164230Z
UID:10008384-1902736800-1902744000@www.hawkestone.org
SUMMARY:Community Play Group
DESCRIPTION:Hello Hawkestone! Thursdays at the Community Hall just got better. As part of our afternoon Social Program we will now be offering a morning Play Group for children and caregivers from 10am-12pm. Donations are appreciated to help this wonderful new program grow. For now bring a toy or two to share and let’s have some fun!
URL:http://www.hawkestone.org/event/community-play-group/2030-04-18/
LOCATION:Hawkestone Community Hall\, 3 Allen St\, Hawkestone\, L0L 1T0
CATEGORIES:Children's event,Family Event,Lifestyles,Recreation,Social event,Well-being
ATTACH;FMTTYPE=image/jpeg:http://www.hawkestone.org/wp-content/uploads/2026/02/family-social.jpg
ORGANIZER;CN="Danielle Talaska":MAILTO:danitalaska@gmail.com
END:VEVENT
BEGIN:VEVENT
DTSTART;TZID=America/Toronto:20300418T140000
DTEND;TZID=America/Toronto:20300418T160000
DTSTAMP:20260422T185747
CREATED:20250208T195759Z
LAST-MODIFIED:20250903T235203Z
UID:10007103-1902751200-1902758400@www.hawkestone.org
SUMMARY:Thursday Social Drop-In
DESCRIPTION:The Thursday Social Gathering has started up again. All are welcome. There is no cost although donations for the hall are gratefully accepted.
URL:http://www.hawkestone.org/event/thursday-social-drop-in/2030-04-18/
LOCATION:Hawkestone Community Hall\, 3 Allen St\, Hawkestone\, L0L 1T0
CATEGORIES:Adult event,Family Event,Recreation,Social event
ATTACH;FMTTYPE=image/jpeg:http://www.hawkestone.org/wp-content/uploads/2025/02/Thursday-Social.jpg
ORGANIZER;CN="Becca Rodgers":MAILTO:beccarodgers8@gmail.com
END:VEVENT
END:VCALENDAR