BEGIN:VCALENDAR
VERSION:2.0
PRODID:-//Hawkestone Community Hall - ECPv6.15.20//NONSGML v1.0//EN
CALSCALE:GREGORIAN
METHOD:PUBLISH
X-ORIGINAL-URL:http://www.hawkestone.org
X-WR-CALDESC:Events for Hawkestone Community Hall
REFRESH-INTERVAL;VALUE=DURATION:PT1H
X-Robots-Tag:noindex
X-PUBLISHED-TTL:PT1H
BEGIN:VTIMEZONE
TZID:America/Toronto
BEGIN:DAYLIGHT
TZOFFSETFROM:-0500
TZOFFSETTO:-0400
TZNAME:EDT
DTSTART:20260308T070000
END:DAYLIGHT
BEGIN:STANDARD
TZOFFSETFROM:-0400
TZOFFSETTO:-0500
TZNAME:EST
DTSTART:20261101T060000
END:STANDARD
BEGIN:DAYLIGHT
TZOFFSETFROM:-0500
TZOFFSETTO:-0400
TZNAME:EDT
DTSTART:20270314T070000
END:DAYLIGHT
BEGIN:STANDARD
TZOFFSETFROM:-0400
TZOFFSETTO:-0500
TZNAME:EST
DTSTART:20271107T060000
END:STANDARD
BEGIN:DAYLIGHT
TZOFFSETFROM:-0500
TZOFFSETTO:-0400
TZNAME:EDT
DTSTART:20280312T070000
END:DAYLIGHT
BEGIN:STANDARD
TZOFFSETFROM:-0400
TZOFFSETTO:-0500
TZNAME:EST
DTSTART:20281105T060000
END:STANDARD
END:VTIMEZONE
BEGIN:VEVENT
DTSTART;TZID=America/Toronto:20270506T100000
DTEND;TZID=America/Toronto:20270506T120000
DTSTAMP:20260421T011632
CREATED:20260217T163654Z
LAST-MODIFIED:20260217T164230Z
UID:10008230-1809597600-1809604800@www.hawkestone.org
SUMMARY:Community Play Group
DESCRIPTION:Hello Hawkestone! Thursdays at the Community Hall just got better. As part of our afternoon Social Program we will now be offering a morning Play Group for children and caregivers from 10am-12pm. Donations are appreciated to help this wonderful new program grow. For now bring a toy or two to share and let’s have some fun!
URL:http://www.hawkestone.org/event/community-play-group/2027-05-06/
LOCATION:Hawkestone Community Hall\, 3 Allen St\, Hawkestone\, L0L 1T0
CATEGORIES:Children's event,Family Event,Lifestyles,Recreation,Social event,Well-being
ATTACH;FMTTYPE=image/jpeg:http://www.hawkestone.org/wp-content/uploads/2026/02/family-social.jpg
ORGANIZER;CN="Danielle Talaska":MAILTO:danitalaska@gmail.com
END:VEVENT
BEGIN:VEVENT
DTSTART;TZID=America/Toronto:20270506T140000
DTEND;TZID=America/Toronto:20270506T160000
DTSTAMP:20260421T011632
CREATED:20250208T195759Z
LAST-MODIFIED:20250903T235203Z
UID:10005924-1809612000-1809619200@www.hawkestone.org
SUMMARY:Thursday Social Drop-In
DESCRIPTION:The Thursday Social Gathering has started up again. All are welcome. There is no cost although donations for the hall are gratefully accepted.
URL:http://www.hawkestone.org/event/thursday-social-drop-in/2027-05-06/
LOCATION:Hawkestone Community Hall\, 3 Allen St\, Hawkestone\, L0L 1T0
CATEGORIES:Adult event,Family Event,Recreation,Social event
ATTACH;FMTTYPE=image/jpeg:http://www.hawkestone.org/wp-content/uploads/2025/02/Thursday-Social.jpg
ORGANIZER;CN="Becca Rodgers":MAILTO:beccarodgers8@gmail.com
END:VEVENT
BEGIN:VEVENT
DTSTART;TZID=America/Toronto:20270513T100000
DTEND;TZID=America/Toronto:20270513T120000
DTSTAMP:20260421T011632
CREATED:20260217T163654Z
LAST-MODIFIED:20260217T164230Z
UID:10008231-1810202400-1810209600@www.hawkestone.org
SUMMARY:Community Play Group
DESCRIPTION:Hello Hawkestone! Thursdays at the Community Hall just got better. As part of our afternoon Social Program we will now be offering a morning Play Group for children and caregivers from 10am-12pm. Donations are appreciated to help this wonderful new program grow. For now bring a toy or two to share and let’s have some fun!
URL:http://www.hawkestone.org/event/community-play-group/2027-05-13/
LOCATION:Hawkestone Community Hall\, 3 Allen St\, Hawkestone\, L0L 1T0
CATEGORIES:Children's event,Family Event,Lifestyles,Recreation,Social event,Well-being
ATTACH;FMTTYPE=image/jpeg:http://www.hawkestone.org/wp-content/uploads/2026/02/family-social.jpg
ORGANIZER;CN="Danielle Talaska":MAILTO:danitalaska@gmail.com
END:VEVENT
BEGIN:VEVENT
DTSTART;TZID=America/Toronto:20270513T140000
DTEND;TZID=America/Toronto:20270513T160000
DTSTAMP:20260421T011632
CREATED:20250208T195759Z
LAST-MODIFIED:20250903T235203Z
UID:10005925-1810216800-1810224000@www.hawkestone.org
SUMMARY:Thursday Social Drop-In
DESCRIPTION:The Thursday Social Gathering has started up again. All are welcome. There is no cost although donations for the hall are gratefully accepted.
URL:http://www.hawkestone.org/event/thursday-social-drop-in/2027-05-13/
LOCATION:Hawkestone Community Hall\, 3 Allen St\, Hawkestone\, L0L 1T0
CATEGORIES:Adult event,Family Event,Recreation,Social event
ATTACH;FMTTYPE=image/jpeg:http://www.hawkestone.org/wp-content/uploads/2025/02/Thursday-Social.jpg
ORGANIZER;CN="Becca Rodgers":MAILTO:beccarodgers8@gmail.com
END:VEVENT
BEGIN:VEVENT
DTSTART;TZID=America/Toronto:20270520T100000
DTEND;TZID=America/Toronto:20270520T120000
DTSTAMP:20260421T011632
CREATED:20260217T163654Z
LAST-MODIFIED:20260217T164230Z
UID:10008232-1810807200-1810814400@www.hawkestone.org
SUMMARY:Community Play Group
DESCRIPTION:Hello Hawkestone! Thursdays at the Community Hall just got better. As part of our afternoon Social Program we will now be offering a morning Play Group for children and caregivers from 10am-12pm. Donations are appreciated to help this wonderful new program grow. For now bring a toy or two to share and let’s have some fun!
URL:http://www.hawkestone.org/event/community-play-group/2027-05-20/
LOCATION:Hawkestone Community Hall\, 3 Allen St\, Hawkestone\, L0L 1T0
CATEGORIES:Children's event,Family Event,Lifestyles,Recreation,Social event,Well-being
ATTACH;FMTTYPE=image/jpeg:http://www.hawkestone.org/wp-content/uploads/2026/02/family-social.jpg
ORGANIZER;CN="Danielle Talaska":MAILTO:danitalaska@gmail.com
END:VEVENT
BEGIN:VEVENT
DTSTART;TZID=America/Toronto:20270520T140000
DTEND;TZID=America/Toronto:20270520T160000
DTSTAMP:20260421T011632
CREATED:20250208T195759Z
LAST-MODIFIED:20250903T235203Z
UID:10005926-1810821600-1810828800@www.hawkestone.org
SUMMARY:Thursday Social Drop-In
DESCRIPTION:The Thursday Social Gathering has started up again. All are welcome. There is no cost although donations for the hall are gratefully accepted.
URL:http://www.hawkestone.org/event/thursday-social-drop-in/2027-05-20/
LOCATION:Hawkestone Community Hall\, 3 Allen St\, Hawkestone\, L0L 1T0
CATEGORIES:Adult event,Family Event,Recreation,Social event
ATTACH;FMTTYPE=image/jpeg:http://www.hawkestone.org/wp-content/uploads/2025/02/Thursday-Social.jpg
ORGANIZER;CN="Becca Rodgers":MAILTO:beccarodgers8@gmail.com
END:VEVENT
BEGIN:VEVENT
DTSTART;TZID=America/Toronto:20270527T100000
DTEND;TZID=America/Toronto:20270527T120000
DTSTAMP:20260421T011632
CREATED:20260217T163654Z
LAST-MODIFIED:20260217T164230Z
UID:10008233-1811412000-1811419200@www.hawkestone.org
SUMMARY:Community Play Group
DESCRIPTION:Hello Hawkestone! Thursdays at the Community Hall just got better. As part of our afternoon Social Program we will now be offering a morning Play Group for children and caregivers from 10am-12pm. Donations are appreciated to help this wonderful new program grow. For now bring a toy or two to share and let’s have some fun!
URL:http://www.hawkestone.org/event/community-play-group/2027-05-27/
LOCATION:Hawkestone Community Hall\, 3 Allen St\, Hawkestone\, L0L 1T0
CATEGORIES:Children's event,Family Event,Lifestyles,Recreation,Social event,Well-being
ATTACH;FMTTYPE=image/jpeg:http://www.hawkestone.org/wp-content/uploads/2026/02/family-social.jpg
ORGANIZER;CN="Danielle Talaska":MAILTO:danitalaska@gmail.com
END:VEVENT
BEGIN:VEVENT
DTSTART;TZID=America/Toronto:20270527T140000
DTEND;TZID=America/Toronto:20270527T160000
DTSTAMP:20260421T011632
CREATED:20250208T195759Z
LAST-MODIFIED:20250903T235203Z
UID:10005927-1811426400-1811433600@www.hawkestone.org
SUMMARY:Thursday Social Drop-In
DESCRIPTION:The Thursday Social Gathering has started up again. All are welcome. There is no cost although donations for the hall are gratefully accepted.
URL:http://www.hawkestone.org/event/thursday-social-drop-in/2027-05-27/
LOCATION:Hawkestone Community Hall\, 3 Allen St\, Hawkestone\, L0L 1T0
CATEGORIES:Adult event,Family Event,Recreation,Social event
ATTACH;FMTTYPE=image/jpeg:http://www.hawkestone.org/wp-content/uploads/2025/02/Thursday-Social.jpg
ORGANIZER;CN="Becca Rodgers":MAILTO:beccarodgers8@gmail.com
END:VEVENT
END:VCALENDAR