BEGIN:VCALENDAR
VERSION:2.0
PRODID:-//Hawkestone Community Hall - ECPv6.15.20//NONSGML v1.0//EN
CALSCALE:GREGORIAN
METHOD:PUBLISH
X-ORIGINAL-URL:http://www.hawkestone.org
X-WR-CALDESC:Events for Hawkestone Community Hall
REFRESH-INTERVAL;VALUE=DURATION:PT1H
X-Robots-Tag:noindex
X-PUBLISHED-TTL:PT1H
BEGIN:VTIMEZONE
TZID:America/Toronto
BEGIN:DAYLIGHT
TZOFFSETFROM:-0500
TZOFFSETTO:-0400
TZNAME:EDT
DTSTART:20250309T070000
END:DAYLIGHT
BEGIN:STANDARD
TZOFFSETFROM:-0400
TZOFFSETTO:-0500
TZNAME:EST
DTSTART:20251102T060000
END:STANDARD
BEGIN:DAYLIGHT
TZOFFSETFROM:-0500
TZOFFSETTO:-0400
TZNAME:EDT
DTSTART:20260308T070000
END:DAYLIGHT
BEGIN:STANDARD
TZOFFSETFROM:-0400
TZOFFSETTO:-0500
TZNAME:EST
DTSTART:20261101T060000
END:STANDARD
BEGIN:DAYLIGHT
TZOFFSETFROM:-0500
TZOFFSETTO:-0400
TZNAME:EDT
DTSTART:20270314T070000
END:DAYLIGHT
BEGIN:STANDARD
TZOFFSETFROM:-0400
TZOFFSETTO:-0500
TZNAME:EST
DTSTART:20271107T060000
END:STANDARD
END:VTIMEZONE
BEGIN:VEVENT
DTSTART;TZID=America/Toronto:20260416T193000
DTEND;TZID=America/Toronto:20260416T213000
DTSTAMP:20260419T140031
CREATED:20250512T120948Z
LAST-MODIFIED:20250830T153445Z
UID:10006996-1776367800-1776375000@www.hawkestone.org
SUMMARY:Hawkestone Singers Rehearsals - Come join us!
DESCRIPTION:The Hawkestone Singers\, an adult\, SATB choir\, rehearse at the Hall every Thursday evening from 7:30 to 9:30pm under the direction of the very talented\, Teri Therrien. They perform a wide variety of contemporary music including classic rock\, pop movie themes\, arrangements of old standards\, jazz\, traditional folk songs\, etc. They produce 2 concerts per year in addition to performing at a number of venues in the area. \nThe cost is $125 for each of two seasons (September-December; January-May). This is a non-audition choir for singers over 16. \nFor anyone looking to enjoy the musical communion of fun-loving people\, contact Irina at hawkestonesingers@gmail.com for more information. \n 
URL:http://www.hawkestone.org/event/hawkestone-singers-rehearsals-come-join-us-2/2026-04-16/
LOCATION:Hawkestone Community Hall\, 3 Allen St\, Hawkestone\, L0L 1T0
CATEGORIES:Adult event,Choir,Concert,Music
ATTACH;FMTTYPE=image/jpeg:http://www.hawkestone.org/wp-content/uploads/2025/02/Hawkestone-Singers.jpg
ORGANIZER;CN="Irina Todd":MAILTO:irina_todd@rogers.com
END:VEVENT
END:VCALENDAR