BEGIN:VCALENDAR
VERSION:2.0
PRODID:-//Hawkestone Community Hall - ECPv6.15.20//NONSGML v1.0//EN
CALSCALE:GREGORIAN
METHOD:PUBLISH
X-WR-CALNAME:Hawkestone Community Hall
X-ORIGINAL-URL:http://www.hawkestone.org
X-WR-CALDESC:Events for Hawkestone Community Hall
REFRESH-INTERVAL;VALUE=DURATION:PT1H
X-Robots-Tag:noindex
X-PUBLISHED-TTL:PT1H
BEGIN:VTIMEZONE
TZID:America/Toronto
BEGIN:DAYLIGHT
TZOFFSETFROM:-0500
TZOFFSETTO:-0400
TZNAME:EDT
DTSTART:20250309T070000
END:DAYLIGHT
BEGIN:STANDARD
TZOFFSETFROM:-0400
TZOFFSETTO:-0500
TZNAME:EST
DTSTART:20251102T060000
END:STANDARD
BEGIN:DAYLIGHT
TZOFFSETFROM:-0500
TZOFFSETTO:-0400
TZNAME:EDT
DTSTART:20260308T070000
END:DAYLIGHT
BEGIN:STANDARD
TZOFFSETFROM:-0400
TZOFFSETTO:-0500
TZNAME:EST
DTSTART:20261101T060000
END:STANDARD
BEGIN:DAYLIGHT
TZOFFSETFROM:-0500
TZOFFSETTO:-0400
TZNAME:EDT
DTSTART:20270314T070000
END:DAYLIGHT
BEGIN:STANDARD
TZOFFSETFROM:-0400
TZOFFSETTO:-0500
TZNAME:EST
DTSTART:20271107T060000
END:STANDARD
END:VTIMEZONE
BEGIN:VEVENT
DTSTART;TZID=America/Toronto:20260420T160000
DTEND;TZID=America/Toronto:20260420T170000
DTSTAMP:20260420T012727
CREATED:20250208T014822Z
LAST-MODIFIED:20250926T205813Z
UID:10005083-1776700800-1776704400@www.hawkestone.org
SUMMARY:NIA-Inspired Movement
DESCRIPTION:NIA is open to everyone. Nia participants come from all walks of life — but share a common desire to feel better\, move better\, and have fun. \nWhat is NIA?\nNia blends the best of deance\, martial arts\, and healing arts into a joyful mindful movement practice. Each session is a 60-minute\, whole-body experience that invites you to move with freedom\, awareness\, and connection. \n“But I’m not a dancer…”\nWhat are the benefits of Nia-Inspired Movement?\nBenefits often include: \n\nA greater sense of confidence and joy in their body\nBetter balance\, agility\, grace and flexibility\nImproved stamina and endurance\nIncreased strength and muscle tone\nReduced stress. Enhanced sense of calm\nLess stress and more calm\nA stronger feeling of well-being\, connection\, and community\n\nWhat to wear and bring?\n\nComfortable clothes you enjoy moving in\nBare feet are common\, but non-slip socks or soft-soled shoes also work\na yoga mat and water bottle\n\nSession Times\n(See calendar for all dates and exceptions) \n\nMondays: 4:00 – 5:00 pm\nWednesdays: 10:00 – 11:00 am\n\nCome when you can — no registration required! \nHow much does it cost?\nWe ask participants to contribute $5 per class as a donation towards the hall rental and other program costs. No prior registration required. Just come on out and join us! \nIf you would like any other information\, please contact Judy Blaney at jwblaney3@gmail.com
URL:http://www.hawkestone.org/event/nia-inspired-movement/2026-04-20/
CATEGORIES:Adult event,Exercise,Fitness
ATTACH;FMTTYPE=image/jpeg:http://www.hawkestone.org/wp-content/uploads/2024/03/2024-Nia-.jpg
ORGANIZER;CN="Judy Blaney":MAILTO:jwblaney3@gmail.com
END:VEVENT
BEGIN:VEVENT
DTSTART;TZID=America/Toronto:20260420T190000
DTEND;TZID=America/Toronto:20260420T203000
DTSTAMP:20260420T012727
CREATED:20260226T035358Z
LAST-MODIFIED:20260226T040007Z
UID:10008440-1776711600-1776717000@www.hawkestone.org
SUMMARY:Beginner Crocheting Class
DESCRIPTION:Monday nights 7- 8:30\nMarch 9\,16\,23\, 30\n$80 for 4 classes plus recommended material/tools (Approx $25) \nThis class is a perfect intro into crochet for the absolute beginner or anyone who is self taught and would like to enhance their skills. Open to  ages 12 and up. \nRecommended materials and tools will be yarn and a compatible crochet hook to start learning with and will be shared once registered. Must purchase before the first class. You can easily purchase online or at a local craft store. \nJoin this class to learn: stitches\, terminology\, tools\, diagrams\, written patterns\, finishing and more. These skills will help you complete an endless amount of items for yourself\, gifts\, home decor and toys. Crochet is a fantastic mobile pastime that you can do almost anywhere: Car rides\, waiting rooms\, TV time or anywhere you find yourself wanting to create over scrolling. Plus\, you will end up with a useful finished product to be proud of. \nThis first round of classes will focus on skills and fundamentals\, and finishing a small project at the end. These skills will launch you into the world of crochet with confidence to start your own projects\, follow tutorials and hopefully come back for an advanced round of lessons! \nIf you are interested in learning something new\, meeting other local creators and having a fun thing to do on Monday nights\, I would love to have you join the class. \nTo sign up for the class please email Danielle at  creativeclasswithdanielle@gmail.com
URL:http://www.hawkestone.org/event/beginner-crocheting-class/2026-04-20/
CATEGORIES:Art,Crafting,Crocheting,Lifestyles,Social event,Visual Art,Well-being
ATTACH;FMTTYPE=image/png:http://www.hawkestone.org/wp-content/uploads/2026/02/1.png
ORGANIZER;CN="Danielle Talaska":MAILTO:danitalaska@gmail.com
END:VEVENT
END:VCALENDAR